Back to the "Multiple platform build/check report" A  B [C] D  E  F  G  H  I  J  K  L  M  N  O  P  Q  R  S  T  U  V  W  X  Y  Z 

BioC 3.5: BUILD BIN report for cellHTS2 on oaxaca

This page was generated on 2017-03-04 16:35:21 -0500 (Sat, 04 Mar 2017).

Package 172/1339HostnameOS / ArchINSTALLBUILDCHECKBUILD BIN
cellHTS2 2.39.0
Joseph Barry
Snapshot Date: 2017-03-03 17:15:47 -0500 (Fri, 03 Mar 2017)
URL: https://hedgehog.fhcrc.org/bioconductor/trunk/madman/Rpacks/cellHTS2
Last Changed Rev: 122712 / Revision: 127142
Last Changed Date: 2016-10-17 15:10:43 -0400 (Mon, 17 Oct 2016)
malbec2 Linux (Ubuntu 16.04.1 LTS) / x86_64  OK  OK  ERROR 
tokay2 Windows Server 2012 R2 Standard / x64  OK  OK  ERROR  OK 
toluca2 Mac OS X Mavericks (10.9.5) / x86_64  OK  OK  ERROR  OK 
oaxaca Mac OS X Mavericks (10.9.5) / x86_64  OK  OK  ERROR [ OK ]

Summary

Package: cellHTS2
Version: 2.39.0
Command: rm -rf cellHTS2.buildbin-libdir && mkdir cellHTS2.buildbin-libdir && /Users/biocbuild/BBS/utils/build-universal.sh cellHTS2_2.39.0.tar.gz /Library/Frameworks/R.framework/Versions/Current/Resources/bin/R cellHTS2.buildbin-libdir
StartedAt: 2017-03-04 11:01:14 -0800 (Sat, 04 Mar 2017)
EndedAt: 2017-03-04 11:01:36 -0800 (Sat, 04 Mar 2017)
EllapsedTime: 22.7 seconds
RetCode: 0
Status:  OK 
PackageFile: cellHTS2_2.39.0.tgz
PackageFileSize: 3.598 MiB

Command output

##############################################################################
##############################################################################
###
### Running command:
###
###   rm -rf cellHTS2.buildbin-libdir && mkdir cellHTS2.buildbin-libdir && /Users/biocbuild/BBS/utils/build-universal.sh cellHTS2_2.39.0.tar.gz /Library/Frameworks/R.framework/Versions/Current/Resources/bin/R cellHTS2.buildbin-libdir
###
##############################################################################
##############################################################################


>>>>>>> 
>>>>>>> INSTALLATION WITH 'R CMD INSTALL --preclean --no-multiarch --library=cellHTS2.buildbin-libdir cellHTS2_2.39.0.tar.gz'
>>>>>>> 

* installing *source* package ‘cellHTS2’ ...
** R
** data
** inst
** preparing package for lazy loading
** help
*** installing help indices
** building package indices
** installing vignettes
** testing if installed package can be loaded
* DONE (cellHTS2)