ALL 1.18.0 Robert Gentleman
Snapshot Date: 2017-10-18 09:00:07 -0400 (Wed, 18 Oct 2017) | URL: https://git.bioconductor.org/packages/ALL | Branch: RELEASE_3_5 | Last Commit: 3f098e2 | Last Changed Date: 2017-08-16 15:18:48 -0400 (Wed, 16 Aug 2017) |
| malbec2 | Linux (Ubuntu 16.04.1 LTS) / x86_64 | [ OK ] | OK | OK | | |
##############################################################################
##############################################################################
###
### Running command:
###
### /home/biocbuild/bbs-3.5-bioc/R/bin/R CMD INSTALL ALL
###
##############################################################################
##############################################################################
* installing to library ‘/home/biocbuild/bbs-3.5-bioc/R/library’
* installing *source* package ‘ALL’ ...
** R
** data
** preparing package for lazy loading
** help
*** installing help indices
** building package indices
** installing vignettes
** testing if installed package can be loaded
* DONE (ALL)