Back to Multiple platform build/check report for BioC 3.6 |
|
This page was generated on 2018-04-10 14:33:28 -0400 (Tue, 10 Apr 2018).
Package 18/1472 | Hostname | OS / Arch | INSTALL | BUILD | CHECK | BUILD BIN | ||||||
AffyCompatible 1.38.0 Martin Morgan
| malbec1 | Linux (Ubuntu 16.04.1 LTS) / x86_64 | OK | OK | OK | |||||||
tokay1 | Windows Server 2012 R2 Standard / x64 | OK | OK | OK | [ OK ] | |||||||
veracruz1 | OS X 10.11.6 El Capitan / x86_64 | OK | OK | OK | OK |
Package: AffyCompatible |
Version: 1.38.0 |
Command: cd AffyCompatible.buildbin-libdir/AffyCompatible && zip -r ../../AffyCompatible_1.38.0.zip . & cd ../.. |
StartedAt: 2018-04-10 04:27:22 -0400 (Tue, 10 Apr 2018) |
EndedAt: 2018-04-10 04:28:21 -0400 (Tue, 10 Apr 2018) |
EllapsedTime: 59.1 seconds |
RetCode: 0 |
Status: OK |
PackageFile: AffyCompatible_1.38.0.zip |
PackageFileSize: 3.016 MiB |
############################################################################## ############################################################################## ### ### Running command: ### ### cd AffyCompatible.buildbin-libdir/AffyCompatible && zip -r ../../AffyCompatible_1.38.0.zip . & cd ../.. ### ############################################################################## ############################################################################## adding: DESCRIPTION (332 bytes security) (deflated 41%) adding: doc/ (372 bytes security) (stored 0%) adding: doc/index.html (332 bytes security) (deflated 67%) adding: doc/MAGEAndARR.pdf (332 bytes security) (deflated 8%) adding: doc/MAGEAndARR.R (332 bytes security) (deflated 81%) adding: doc/MAGEAndARR.Rnw (332 bytes security) (deflated 61%) adding: doc/NetAffxResource.pdf (332 bytes security) (deflated 6%) adding: doc/NetAffxResource.R (332 bytes security) (deflated 76%) adding: doc/NetAffxResource.Rnw (332 bytes security) (deflated 59%) adding: extdata/ (372 bytes security) (stored 0%) adding: extdata/ARR/ (372 bytes security) (stored 0%) adding: extdata/ARR/TisMap_Brain_01_v1_WTGene1.ARR (332 bytes security) (deflated 85%) adding: extdata/ARR/TisMap_Breast_01_v1_WTGene1.ARR (332 bytes security) (deflated 85%) adding: extdata/ARR/TisMap_Heart_01_v1_WTGene1.ARR (332 bytes security) (deflated 85%) adding: extdata/ARR/TisMap_Kidney_01_v1_WTGene1.ARR (332 bytes security) (deflated 85%) adding: extdata/ArraySetAndTemplateFile.dtd (332 bytes security) (deflated 68%) adding: extdata/DTT/ (372 bytes security) (stored 0%) adding: extdata/DTT/MPRO_0hr_A.xml (332 bytes security) (deflated 92%) adding: extdata/DTT/Sample_1_Wash_Stain_Param.xml (332 bytes security) (deflated 92%) adding: extdata/DTT/Sample_2_4C_Scan.xml (332 bytes security) (deflated 94%) adding: extdata/MAGE-ML.dtd (332 bytes security) (deflated 81%) adding: extdata/NetAffxAnnotFileList.dtd (332 bytes security) (deflated 61%) adding: help/ (372 bytes security) (stored 0%) adding: help/AffyCompatible.rdb (332 bytes security) (deflated 2%) adding: help/AffyCompatible.rdx (332 bytes security) (stored 0%) adding: help/aliases.rds (332 bytes security) (deflated 2%) adding: help/AnIndex (332 bytes security) (deflated 92%) adding: help/paths.rds (332 bytes security) (stored 0%) adding: html/ (372 bytes security) (stored 0%) adding: html/00Index.html (332 bytes security) (deflated 97%) adding: html/accessors-NetAffxResource.html (332 bytes security) (deflated 48%) adding: html/AffyCompatible-class.html (332 bytes security) (deflated 51%) adding: html/AffyCompatible-package.html (332 bytes security) (deflated 52%) adding: html/NetAffxResource-class.html (332 bytes security) (deflated 70%) adding: html/NetAffxResource.html (332 bytes security) (deflated 60%) adding: html/R.css (332 bytes security) (deflated 75%) adding: html/readArr.html (332 bytes security) (deflated 51%) adding: html/readMage.html (332 bytes security) (deflated 51%) adding: html/readNetAffx.html (332 bytes security) (deflated 55%) adding: html/readXml.html (332 bytes security) (deflated 52%) adding: html/xclass.html (332 bytes security) (deflated 56%) adding: html/zzz-.TypedAssociation-class.html (332 bytes security) (deflated 56%) adding: html/zzz-ARRCompatibility-class.html (332 bytes security) (deflated 56%) adding: html/zzz-DTTCompatibility-class.html (332 bytes security) (deflated 56%) adding: html/zzz-NetAffxCompatibility-class.html (332 bytes security) (deflated 60%) adding: html/zzz.html (332 bytes security) (deflated 55%) adding: INDEX (332 bytes security) (deflated 69%) adding: MD5 (332 bytes security) (deflated 49%) adding: Meta/ (372 bytes security) (stored 0%) adding: Meta/features.rds (332 bytes security) (stored 0%) adding: Meta/hsearch.rds (332 bytes security) (deflated 2%) adding: Meta/links.rds (332 bytes security) (deflated 5%) adding: Meta/nsInfo.rds (332 bytes security) (stored 0%) adding: Meta/package.rds (332 bytes security) (stored 0%) adding: Meta/Rd.rds (332 bytes security) (stored 0%) adding: Meta/vignette.rds (332 bytes security) (stored 0%) adding: NAMESPACE (332 bytes security) (deflated 41%) adding: R/ (372 bytes security) (stored 0%) adding: R/AffyCompatible (332 bytes security) (deflated 41%) adding: R/AffyCompatible.rdb (332 bytes security) (deflated 35%) adding: R/AffyCompatible.rdx (332 bytes security) (deflated 11%) adding: R/sysdata.rdb (332 bytes security) (stored 0%) adding: R/sysdata.rdx (332 bytes security) (stored 0%)