CellMapper 1.3.0 Brad Nelms
Snapshot Date: 2017-09-10 17:17:26 -0400 (Sun, 10 Sep 2017) | URL: https://git.bioconductor.org/packages/CellMapper | Last Commit: 876b87f | Last Changed Date: 2017-04-24 15:50:57 -0400 (Mon, 24 Apr 2017) |
| malbec1 | Linux (Ubuntu 16.04.1 LTS) / x86_64 | OK | OK | WARNINGS | | |
tokay1 | Windows Server 2012 R2 Standard / x64 | OK | OK | WARNINGS | OK | |
veracruz1 | OS X 10.11.6 El Capitan / x86_64 | OK | OK | WARNINGS | [ OK ] | |
##############################################################################
##############################################################################
###
### Running command:
###
### rm -rf CellMapper.buildbin-libdir && mkdir CellMapper.buildbin-libdir && /Users/biocbuild/BBS/utils/build-universal.sh CellMapper_1.3.0.tar.gz /Library/Frameworks/R.framework/Versions/Current/Resources/bin/R CellMapper.buildbin-libdir
###
##############################################################################
##############################################################################
>>>>>>>
>>>>>>> INSTALLATION WITH 'R CMD INSTALL --preclean --no-multiarch --library=CellMapper.buildbin-libdir CellMapper_1.3.0.tar.gz'
>>>>>>>
* installing *source* package ‘CellMapper’ ...
** R
** data
** inst
** preparing package for lazy loading
Warning: replacing previous import ‘stats::sd’ by ‘S4Vectors::sd’ when loading ‘CellMapper’
Warning: replacing previous import ‘stats::var’ by ‘S4Vectors::var’ when loading ‘CellMapper’
** help
*** installing help indices
** building package indices
** installing vignettes
** testing if installed package can be loaded
Warning: replacing previous import ‘stats::sd’ by ‘S4Vectors::sd’ when loading ‘CellMapper’
Warning: replacing previous import ‘stats::var’ by ‘S4Vectors::var’ when loading ‘CellMapper’
* DONE (CellMapper)