Back to Multiple platform build/check report for BioC 3.7 |
|
This page was generated on 2018-10-17 08:25:46 -0400 (Wed, 17 Oct 2018).
Package 290/1561 | Hostname | OS / Arch | INSTALL | BUILD | CHECK | BUILD BIN | ||||||
COHCAP 1.26.0 Charles Warden
| malbec2 | Linux (Ubuntu 16.04.1 LTS) / x86_64 | OK | OK | [ OK ] | ![]() | ||||||
tokay2 | Windows Server 2012 R2 Standard / x64 | OK | OK | OK | OK | ![]() | ||||||
merida2 | OS X 10.11.6 El Capitan / x86_64 | OK | OK | OK | OK | ![]() |
Package: COHCAP |
Version: 1.26.0 |
Command: /home/biocbuild/bbs-3.7-bioc/R/bin/R CMD check --install=check:COHCAP.install-out.txt --library=/home/biocbuild/bbs-3.7-bioc/R/library --no-vignettes --timings COHCAP_1.26.0.tar.gz |
StartedAt: 2018-10-15 23:25:54 -0400 (Mon, 15 Oct 2018) |
EndedAt: 2018-10-15 23:26:37 -0400 (Mon, 15 Oct 2018) |
EllapsedTime: 43.5 seconds |
RetCode: 0 |
Status: OK |
CheckDir: COHCAP.Rcheck |
Warnings: 0 |
############################################################################## ############################################################################## ### ### Running command: ### ### /home/biocbuild/bbs-3.7-bioc/R/bin/R CMD check --install=check:COHCAP.install-out.txt --library=/home/biocbuild/bbs-3.7-bioc/R/library --no-vignettes --timings COHCAP_1.26.0.tar.gz ### ############################################################################## ############################################################################## * using log directory ‘/home/biocbuild/bbs-3.7-bioc/meat/COHCAP.Rcheck’ * using R version 3.5.1 Patched (2018-07-12 r74967) * using platform: x86_64-pc-linux-gnu (64-bit) * using session charset: UTF-8 * using option ‘--no-vignettes’ * checking for file ‘COHCAP/DESCRIPTION’ ... OK * checking extension type ... Package * this is package ‘COHCAP’ version ‘1.26.0’ * checking package namespace information ... OK * checking package dependencies ... OK * checking if this is a source package ... OK * checking if there is a namespace ... OK * checking for hidden files and directories ... OK * checking for portable file names ... OK * checking for sufficient/correct file permissions ... OK * checking whether package ‘COHCAP’ can be installed ... OK * checking installed package size ... OK * checking package directory ... OK * checking ‘build’ directory ... OK * checking DESCRIPTION meta-information ... OK * checking top-level files ... OK * checking for left-over files ... OK * checking index information ... OK * checking package subdirectories ... OK * checking R files for non-ASCII characters ... OK * checking R files for syntax errors ... OK * checking whether the package can be loaded ... OK * checking whether the package can be loaded with stated dependencies ... OK * checking whether the package can be unloaded cleanly ... OK * checking whether the namespace can be loaded with stated dependencies ... OK * checking whether the namespace can be unloaded cleanly ... OK * checking dependencies in R code ... OK * checking S3 generic/method consistency ... OK * checking replacement functions ... OK * checking foreign function calls ... OK * checking R code for possible problems ... NOTE COHCAP.annotate: no visible binding for global variable ‘COHCAP.450k.UCSC’ COHCAP.annotate: no visible binding for global variable ‘COHCAP.450k.HMM’ COHCAP.annotate: no visible binding for global variable ‘COHCAP.27k’ COHCAP.integrate.avg.by.island: no visible binding for global variable ‘na.rm’ cor.test.est: no visible binding for global variable ‘na.rm’ cor.test.pvalue: no visible binding for global variable ‘na.rm’ Undefined global functions or variables: COHCAP.27k COHCAP.450k.HMM COHCAP.450k.UCSC na.rm * checking Rd files ... OK * checking Rd metadata ... OK * checking Rd cross-references ... OK * checking for missing documentation entries ... OK * checking for code/documentation mismatches ... OK * checking Rd \usage sections ... OK * checking Rd contents ... OK * checking for unstated dependencies in examples ... OK * checking line endings in C/C++/Fortran sources/headers ... OK * checking compiled code ... NOTE Note: information on .o files is not available * checking files in ‘vignettes’ ... OK * checking examples ... OK * checking for unstated dependencies in vignettes ... OK * checking package vignettes in ‘inst/doc’ ... OK * checking running R code from vignettes ... SKIPPED * checking re-building of vignette outputs ... SKIPPED * checking PDF version of manual ... OK * DONE Status: 2 NOTEs See ‘/home/biocbuild/bbs-3.7-bioc/meat/COHCAP.Rcheck/00check.log’ for details.
COHCAP.Rcheck/00install.out
############################################################################## ############################################################################## ### ### Running command: ### ### /home/biocbuild/bbs-3.7-bioc/R/bin/R CMD INSTALL COHCAP ### ############################################################################## ############################################################################## * installing to library ‘/home/biocbuild/bbs-3.7-bioc/R/library’ * installing *source* package ‘COHCAP’ ... ** libs g++ -I"/home/biocbuild/bbs-3.7-bioc/R/include" -DNDEBUG -I"/home/biocbuild/bbs-3.7-bioc/R/library/Rcpp/include" -I"/home/biocbuild/bbs-3.7-bioc/R/library/BH/include" -I/usr/local/include -fpic -g -O2 -Wall -c RcppExports.cpp -o RcppExports.o g++ -I"/home/biocbuild/bbs-3.7-bioc/R/include" -DNDEBUG -I"/home/biocbuild/bbs-3.7-bioc/R/library/Rcpp/include" -I"/home/biocbuild/bbs-3.7-bioc/R/library/BH/include" -I/usr/local/include -fpic -g -O2 -Wall -c Rcpp_BH_ANOVA.cpp -o Rcpp_BH_ANOVA.o g++ -I"/home/biocbuild/bbs-3.7-bioc/R/include" -DNDEBUG -I"/home/biocbuild/bbs-3.7-bioc/R/library/Rcpp/include" -I"/home/biocbuild/bbs-3.7-bioc/R/library/BH/include" -I/usr/local/include -fpic -g -O2 -Wall -c Rcpp_BH_ttest.cpp -o Rcpp_BH_ttest.o g++ -shared -L/home/biocbuild/bbs-3.7-bioc/R/lib -L/usr/local/lib -o COHCAP.so RcppExports.o Rcpp_BH_ANOVA.o Rcpp_BH_ttest.o -L/home/biocbuild/bbs-3.7-bioc/R/lib -lR installing to /home/biocbuild/bbs-3.7-bioc/R/library/COHCAP/libs ** R ** inst ** byte-compile and prepare package for lazy loading ** help *** installing help indices ** building package indices ** installing vignettes ** testing if installed package can be loaded * DONE (COHCAP)
COHCAP.Rcheck/COHCAP-Ex.timings
name | user | system | elapsed | |
COHCAP.BSSeq.preprocess | 0.024 | 0.000 | 0.073 | |
COHCAP.annotate | 1.532 | 0.052 | 1.664 | |
COHCAP.avg.by.island | 3.180 | 0.200 | 3.431 | |
COHCAP.avg.by.site | 2.504 | 0.144 | 2.705 | |
COHCAP.denovo | 2.280 | 0.168 | 2.502 | |
COHCAP.integrate.avg.by.island | 3.516 | 0.280 | 3.914 | |
COHCAP.integrate.avg.by.site | 3.016 | 0.204 | 3.318 | |
COHCAP.qc | 1.480 | 0.040 | 1.535 | |
COHCAP.reformatFinalReport | 0.008 | 0.000 | 0.023 | |
COHCAP.site | 2.356 | 0.100 | 2.540 | |