Back to Multiple platform build/check report for BioC 3.7 |
|
This page was generated on 2018-10-17 08:21:41 -0400 (Wed, 17 Oct 2018).
Package 1395/1561 | Hostname | OS / Arch | INSTALL | BUILD | CHECK | BUILD BIN | ||||||
SNPchip 2.26.0 Robert Scharpf
| malbec2 | Linux (Ubuntu 16.04.1 LTS) / x86_64 | [ OK ] | OK | OK | ![]() | ||||||
tokay2 | Windows Server 2012 R2 Standard / x64 | OK | OK | OK | OK | ![]() | ||||||
merida2 | OS X 10.11.6 El Capitan / x86_64 | OK | OK | OK | OK | ![]() |
Package: SNPchip |
Version: 2.26.0 |
Command: /home/biocbuild/bbs-3.7-bioc/R/bin/R CMD INSTALL SNPchip |
StartedAt: 2018-10-15 18:16:40 -0400 (Mon, 15 Oct 2018) |
EndedAt: 2018-10-15 18:16:55 -0400 (Mon, 15 Oct 2018) |
EllapsedTime: 15.2 seconds |
RetCode: 0 |
Status: OK |
############################################################################## ############################################################################## ### ### Running command: ### ### /home/biocbuild/bbs-3.7-bioc/R/bin/R CMD INSTALL SNPchip ### ############################################################################## ############################################################################## * installing to library ‘/home/biocbuild/bbs-3.7-bioc/R/library’ * installing *source* package ‘SNPchip’ ... ** R ** inst ** byte-compile and prepare package for lazy loading ** help *** installing help indices ** building package indices ** installing vignettes ** testing if installed package can be loaded * DONE (SNPchip)