Back to Multiple platform build/check report for BioC 3.7 |
|
This page was generated on 2018-10-17 08:55:17 -0400 (Wed, 17 Oct 2018).
Package 56/1561 | Hostname | OS / Arch | INSTALL | BUILD | CHECK | BUILD BIN | ||||||
AnnotationHubData 1.10.3 Bioconductor Package Maintainer
| malbec2 | Linux (Ubuntu 16.04.1 LTS) / x86_64 | OK | OK | OK | |||||||
tokay2 | Windows Server 2012 R2 Standard / x64 | OK | OK | OK | OK | |||||||
merida2 | OS X 10.11.6 El Capitan / x86_64 | OK | OK | OK | [ OK ] |
Package: AnnotationHubData |
Version: 1.10.3 |
Command: rm -rf AnnotationHubData.buildbin-libdir && mkdir AnnotationHubData.buildbin-libdir && /Users/biocbuild/BBS/utils/build-universal.sh AnnotationHubData_1.10.3.tar.gz /Library/Frameworks/R.framework/Versions/Current/Resources/bin/R AnnotationHubData.buildbin-libdir |
StartedAt: 2018-10-17 00:54:46 -0400 (Wed, 17 Oct 2018) |
EndedAt: 2018-10-17 00:55:37 -0400 (Wed, 17 Oct 2018) |
EllapsedTime: 51.0 seconds |
RetCode: 0 |
Status: OK |
PackageFile: AnnotationHubData_1.10.3.tgz |
PackageFileSize: 1.032 MiB |
############################################################################## ############################################################################## ### ### Running command: ### ### rm -rf AnnotationHubData.buildbin-libdir && mkdir AnnotationHubData.buildbin-libdir && /Users/biocbuild/BBS/utils/build-universal.sh AnnotationHubData_1.10.3.tar.gz /Library/Frameworks/R.framework/Versions/Current/Resources/bin/R AnnotationHubData.buildbin-libdir ### ############################################################################## ############################################################################## >>>>>>> >>>>>>> INSTALLATION WITH 'R CMD INSTALL --preclean --no-multiarch --library=AnnotationHubData.buildbin-libdir AnnotationHubData_1.10.3.tar.gz' >>>>>>> * installing *source* package ‘AnnotationHubData’ ... ** R ** inst ** byte-compile and prepare package for lazy loading ** help *** installing help indices ** building package indices ** installing vignettes ** testing if installed package can be loaded * DONE (AnnotationHubData)