Back to Multiple platform build/check report for BioC 3.7 |
|
This page was generated on 2018-10-17 08:56:57 -0400 (Wed, 17 Oct 2018).
Package 334/1561 | Hostname | OS / Arch | INSTALL | BUILD | CHECK | BUILD BIN | ||||||
CVE 1.6.0 Andreas Mock
| malbec2 | Linux (Ubuntu 16.04.1 LTS) / x86_64 | OK | OK | WARNINGS | ![]() | ||||||
tokay2 | Windows Server 2012 R2 Standard / x64 | OK | OK | WARNINGS | OK | ![]() | ||||||
merida2 | OS X 10.11.6 El Capitan / x86_64 | OK | OK | WARNINGS | [ OK ] | ![]() |
Package: CVE |
Version: 1.6.0 |
Command: rm -rf CVE.buildbin-libdir && mkdir CVE.buildbin-libdir && /Users/biocbuild/BBS/utils/build-universal.sh CVE_1.6.0.tar.gz /Library/Frameworks/R.framework/Versions/Current/Resources/bin/R CVE.buildbin-libdir |
StartedAt: 2018-10-17 01:10:29 -0400 (Wed, 17 Oct 2018) |
EndedAt: 2018-10-17 01:11:26 -0400 (Wed, 17 Oct 2018) |
EllapsedTime: 57.3 seconds |
RetCode: 0 |
Status: OK |
PackageFile: CVE_1.6.0.tgz |
PackageFileSize: 4.542 MiB |
############################################################################## ############################################################################## ### ### Running command: ### ### rm -rf CVE.buildbin-libdir && mkdir CVE.buildbin-libdir && /Users/biocbuild/BBS/utils/build-universal.sh CVE_1.6.0.tar.gz /Library/Frameworks/R.framework/Versions/Current/Resources/bin/R CVE.buildbin-libdir ### ############################################################################## ############################################################################## >>>>>>> >>>>>>> INSTALLATION WITH 'R CMD INSTALL --preclean --no-multiarch --library=CVE.buildbin-libdir CVE_1.6.0.tar.gz' >>>>>>> * installing *source* package ‘CVE’ ... ** R ** data *** moving datasets to lazyload DB ** inst ** byte-compile and prepare package for lazy loading ** help *** installing help indices ** building package indices ** installing vignettes ** testing if installed package can be loaded * DONE (CVE)