Back to Multiple platform build/check report for BioC 3.7 experimental data |
This page was generated on 2018-10-16 14:19:15 -0400 (Tue, 16 Oct 2018).
Package 171/342 | Hostname | OS / Arch | INSTALL | BUILD | CHECK | BUILD BIN | ||||||
JctSeqData 1.10.0 Stephen Hartley
| malbec2 | Linux (Ubuntu 16.04.1 LTS) / x86_64 | [ OK ] | OK | OK | ![]() |
Package: JctSeqData |
Version: 1.10.0 |
Command: /home/biocbuild/bbs-3.7-bioc/R/bin/R CMD INSTALL JctSeqData |
StartedAt: 2018-10-16 09:01:18 -0400 (Tue, 16 Oct 2018) |
EndedAt: 2018-10-16 09:02:33 -0400 (Tue, 16 Oct 2018) |
EllapsedTime: 75.5 seconds |
RetCode: 0 |
Status: OK |
############################################################################## ############################################################################## ### ### Running command: ### ### /home/biocbuild/bbs-3.7-bioc/R/bin/R CMD INSTALL JctSeqData ### ############################################################################## ############################################################################## * installing to library ‘/home/biocbuild/bbs-3.7-bioc/R/library’ * installing *source* package ‘JctSeqData’ ... ** data *** moving datasets to lazyload DB ** inst ** help *** installing help indices ** building package indices ** installing vignettes ** testing if installed package can be loaded * DONE (JctSeqData)