Back to Multiple platform build/check report for BioC 3.7 experimental data |
This page was generated on 2018-10-16 14:19:09 -0400 (Tue, 16 Oct 2018).
Package 303/342 | Hostname | OS / Arch | INSTALL | BUILD | CHECK | BUILD BIN | ||||||
SNPhoodData 1.10.0 Christian Arnold
| malbec2 | Linux (Ubuntu 16.04.1 LTS) / x86_64 | OK | [ OK ] | OK | ![]() |
Package: SNPhoodData |
Version: 1.10.0 |
Command: /home/biocbuild/bbs-3.7-bioc/R/bin/R CMD build --keep-empty-dirs --no-resave-data SNPhoodData |
StartedAt: 2018-10-16 09:52:34 -0400 (Tue, 16 Oct 2018) |
EndedAt: 2018-10-16 09:52:55 -0400 (Tue, 16 Oct 2018) |
EllapsedTime: 20.3 seconds |
RetCode: 0 |
Status: OK |
PackageFile: SNPhoodData_1.10.0.tar.gz |
PackageFileSize: 233.5 MiB |
############################################################################## ############################################################################## ### ### Running command: ### ### /home/biocbuild/bbs-3.7-bioc/R/bin/R CMD build --keep-empty-dirs --no-resave-data SNPhoodData ### ############################################################################## ############################################################################## * checking for file ‘SNPhoodData/DESCRIPTION’ ... OK * preparing ‘SNPhoodData’: * checking DESCRIPTION meta-information ... OK * installing the package to build vignettes * creating vignettes ... OK * checking for LF line-endings in source and make files and shell scripts * checking for empty or unneeded directories * building ‘SNPhoodData_1.10.0.tar.gz’