Back to Multiple platform build/check report for BioC 3.7 experimental data |
This page was generated on 2018-10-16 14:16:57 -0400 (Tue, 16 Oct 2018).
Package 336/342 | Hostname | OS / Arch | INSTALL | BUILD | CHECK | BUILD BIN | ||||||
yeastExpData 0.26.0 R. Gentleman
| malbec2 | Linux (Ubuntu 16.04.1 LTS) / x86_64 | OK | [ OK ] | WARNINGS |
Package: yeastExpData |
Version: 0.26.0 |
Command: /home/biocbuild/bbs-3.7-bioc/R/bin/R CMD build --keep-empty-dirs --no-resave-data yeastExpData |
StartedAt: 2018-10-16 09:21:16 -0400 (Tue, 16 Oct 2018) |
EndedAt: 2018-10-16 09:21:25 -0400 (Tue, 16 Oct 2018) |
EllapsedTime: 8.9 seconds |
RetCode: 0 |
Status: OK |
PackageFile: yeastExpData_0.26.0.tar.gz |
PackageFileSize: 948 KiB |
############################################################################## ############################################################################## ### ### Running command: ### ### /home/biocbuild/bbs-3.7-bioc/R/bin/R CMD build --keep-empty-dirs --no-resave-data yeastExpData ### ############################################################################## ############################################################################## * checking for file ‘yeastExpData/DESCRIPTION’ ... OK * preparing ‘yeastExpData’: * checking DESCRIPTION meta-information ... OK * installing the package to build vignettes * creating vignettes ... OK * checking for LF line-endings in source and make files and shell scripts * checking for empty or unneeded directories * looking to see if a ‘data/datalist’ file should be added * building ‘yeastExpData_0.26.0.tar.gz’