Back to Multiple platform build/check report for BioC 3.7 experimental data |
This page was generated on 2018-10-16 14:18:14 -0400 (Tue, 16 Oct 2018).
Package 17/342 | Hostname | OS / Arch | INSTALL | BUILD | CHECK | BUILD BIN | ||||||
ARRmData 1.16.0 Jean-Philippe Fortin
| malbec2 | Linux (Ubuntu 16.04.1 LTS) / x86_64 | [ OK ] | OK | OK |
Package: ARRmData |
Version: 1.16.0 |
Command: /home/biocbuild/bbs-3.7-bioc/R/bin/R CMD INSTALL ARRmData |
StartedAt: 2018-10-16 09:00:37 -0400 (Tue, 16 Oct 2018) |
EndedAt: 2018-10-16 09:00:49 -0400 (Tue, 16 Oct 2018) |
EllapsedTime: 11.5 seconds |
RetCode: 0 |
Status: OK |
############################################################################## ############################################################################## ### ### Running command: ### ### /home/biocbuild/bbs-3.7-bioc/R/bin/R CMD INSTALL ARRmData ### ############################################################################## ############################################################################## * installing to library ‘/home/biocbuild/bbs-3.7-bioc/R/library’ * installing *source* package ‘ARRmData’ ... ** data ** help *** installing help indices ** building package indices ** testing if installed package can be loaded * DONE (ARRmData)