Back to Multiple platform build/check report for BioC 3.7 experimental data |
This page was generated on 2018-10-16 14:19:30 -0400 (Tue, 16 Oct 2018).
Package 62/342 | Hostname | OS / Arch | INSTALL | BUILD | CHECK | BUILD BIN | ||||||
CONFESSdata 1.8.0 Diana LOW
| malbec2 | Linux (Ubuntu 16.04.1 LTS) / x86_64 | [ OK ] | OK | OK | ![]() |
Package: CONFESSdata |
Version: 1.8.0 |
Command: /home/biocbuild/bbs-3.7-bioc/R/bin/R CMD INSTALL CONFESSdata |
StartedAt: 2018-10-16 08:59:31 -0400 (Tue, 16 Oct 2018) |
EndedAt: 2018-10-16 08:59:47 -0400 (Tue, 16 Oct 2018) |
EllapsedTime: 16.3 seconds |
RetCode: 0 |
Status: OK |
############################################################################## ############################################################################## ### ### Running command: ### ### /home/biocbuild/bbs-3.7-bioc/R/bin/R CMD INSTALL CONFESSdata ### ############################################################################## ############################################################################## * installing to library ‘/home/biocbuild/bbs-3.7-bioc/R/library’ * installing *source* package ‘CONFESSdata’ ... ** data *** moving datasets to lazyload DB ** inst ** help *** installing help indices ** building package indices ** testing if installed package can be loaded * DONE (CONFESSdata)