Back to Multiple platform build/check report for BioC 3.7 experimental data |
This page was generated on 2018-10-16 14:18:14 -0400 (Tue, 16 Oct 2018).
Package 100/342 | Hostname | OS / Arch | INSTALL | BUILD | CHECK | BUILD BIN | ||||||
FANTOM3and4CAGE 1.16.0 Vanja Haberle
| malbec2 | Linux (Ubuntu 16.04.1 LTS) / x86_64 | [ OK ] | OK | OK |
Package: FANTOM3and4CAGE |
Version: 1.16.0 |
Command: /home/biocbuild/bbs-3.7-bioc/R/bin/R CMD INSTALL FANTOM3and4CAGE |
StartedAt: 2018-10-16 09:07:02 -0400 (Tue, 16 Oct 2018) |
EndedAt: 2018-10-16 09:07:11 -0400 (Tue, 16 Oct 2018) |
EllapsedTime: 9.9 seconds |
RetCode: 0 |
Status: OK |
############################################################################## ############################################################################## ### ### Running command: ### ### /home/biocbuild/bbs-3.7-bioc/R/bin/R CMD INSTALL FANTOM3and4CAGE ### ############################################################################## ############################################################################## * installing to library ‘/home/biocbuild/bbs-3.7-bioc/R/library’ * installing *source* package ‘FANTOM3and4CAGE’ ... ** data ** help *** installing help indices ** building package indices ** installing vignettes ** testing if installed package can be loaded * DONE (FANTOM3and4CAGE)