Back to Multiple platform build/check report for BioC 3.7 experimental data |
This page was generated on 2018-10-16 14:18:28 -0400 (Tue, 16 Oct 2018).
Package 105/342 | Hostname | OS / Arch | INSTALL | BUILD | CHECK | BUILD BIN | ||||||
Fletcher2013a 1.16.0 Mauro Castro
| malbec2 | Linux (Ubuntu 16.04.1 LTS) / x86_64 | [ OK ] | OK | OK |
Package: Fletcher2013a |
Version: 1.16.0 |
Command: /home/biocbuild/bbs-3.7-bioc/R/bin/R CMD INSTALL Fletcher2013a |
StartedAt: 2018-10-16 09:06:40 -0400 (Tue, 16 Oct 2018) |
EndedAt: 2018-10-16 09:07:00 -0400 (Tue, 16 Oct 2018) |
EllapsedTime: 19.9 seconds |
RetCode: 0 |
Status: OK |
############################################################################## ############################################################################## ### ### Running command: ### ### /home/biocbuild/bbs-3.7-bioc/R/bin/R CMD INSTALL Fletcher2013a ### ############################################################################## ############################################################################## * installing to library ‘/home/biocbuild/bbs-3.7-bioc/R/library’ * installing *source* package ‘Fletcher2013a’ ... ** R ** data ** inst ** byte-compile and prepare package for lazy loading ** help *** installing help indices ** building package indices ** installing vignettes ** testing if installed package can be loaded * DONE (Fletcher2013a)