Back to Multiple platform build/check report for BioC 3.7 experimental data |
This page was generated on 2018-10-16 14:17:46 -0400 (Tue, 16 Oct 2018).
Package 134/342 | Hostname | OS / Arch | INSTALL | BUILD | CHECK | BUILD BIN | ||||||
GWASdata 1.18.0 Stephanie Gogarten
| malbec2 | Linux (Ubuntu 16.04.1 LTS) / x86_64 | [ OK ] | OK | OK | ![]() |
Package: GWASdata |
Version: 1.18.0 |
Command: /home/biocbuild/bbs-3.7-bioc/R/bin/R CMD INSTALL GWASdata |
StartedAt: 2018-10-16 09:09:13 -0400 (Tue, 16 Oct 2018) |
EndedAt: 2018-10-16 09:09:30 -0400 (Tue, 16 Oct 2018) |
EllapsedTime: 17.4 seconds |
RetCode: 0 |
Status: OK |
############################################################################## ############################################################################## ### ### Running command: ### ### /home/biocbuild/bbs-3.7-bioc/R/bin/R CMD INSTALL GWASdata ### ############################################################################## ############################################################################## * installing to library ‘/home/biocbuild/bbs-3.7-bioc/R/library’ * installing *source* package ‘GWASdata’ ... ** data ** inst ** help *** installing help indices ** building package indices ** testing if installed package can be loaded * DONE (GWASdata)