Back to Multiple platform build/check report for BioC 3.7 experimental data |
This page was generated on 2018-10-16 14:18:18 -0400 (Tue, 16 Oct 2018).
Package 145/342 | Hostname | OS / Arch | INSTALL | BUILD | CHECK | BUILD BIN | ||||||
HD2013SGI 1.20.0 Bernd Fischer
| malbec2 | Linux (Ubuntu 16.04.1 LTS) / x86_64 | OK | [ OK ] | OK |
Package: HD2013SGI |
Version: 1.20.0 |
Command: /home/biocbuild/bbs-3.7-bioc/R/bin/R CMD build --keep-empty-dirs --no-resave-data HD2013SGI |
StartedAt: 2018-10-16 09:31:47 -0400 (Tue, 16 Oct 2018) |
EndedAt: 2018-10-16 09:38:49 -0400 (Tue, 16 Oct 2018) |
EllapsedTime: 422.4 seconds |
RetCode: 0 |
Status: OK |
PackageFile: HD2013SGI_1.20.0.tar.gz |
PackageFileSize: 526.1 MiB |
############################################################################## ############################################################################## ### ### Running command: ### ### /home/biocbuild/bbs-3.7-bioc/R/bin/R CMD build --keep-empty-dirs --no-resave-data HD2013SGI ### ############################################################################## ############################################################################## * checking for file ‘HD2013SGI/DESCRIPTION’ ... OK * preparing ‘HD2013SGI’: * checking DESCRIPTION meta-information ... OK * installing the package to build vignettes * creating vignettes ... OK * checking for LF line-endings in source and make files and shell scripts * checking for empty or unneeded directories * looking to see if a ‘data/datalist’ file should be added * building ‘HD2013SGI_1.20.0.tar.gz’