Back to Multiple platform build/check report for BioC 3.7 experimental data |
This page was generated on 2018-10-16 14:19:46 -0400 (Tue, 16 Oct 2018).
Package 144/342 | Hostname | OS / Arch | INSTALL | BUILD | CHECK | BUILD BIN | ||||||
HarmonizedTCGAData 1.2.0 Tianle Ma
| malbec2 | Linux (Ubuntu 16.04.1 LTS) / x86_64 | [ OK ] | OK | OK |
Package: HarmonizedTCGAData |
Version: 1.2.0 |
Command: /home/biocbuild/bbs-3.7-bioc/R/bin/R CMD INSTALL HarmonizedTCGAData |
StartedAt: 2018-10-16 09:16:21 -0400 (Tue, 16 Oct 2018) |
EndedAt: 2018-10-16 09:16:29 -0400 (Tue, 16 Oct 2018) |
EllapsedTime: 8.4 seconds |
RetCode: 0 |
Status: OK |
############################################################################## ############################################################################## ### ### Running command: ### ### /home/biocbuild/bbs-3.7-bioc/R/bin/R CMD INSTALL HarmonizedTCGAData ### ############################################################################## ############################################################################## * installing to library ‘/home/biocbuild/bbs-3.7-bioc/R/library’ * installing *source* package ‘HarmonizedTCGAData’ ... ** R ** data *** moving datasets to lazyload DB ** inst ** byte-compile and prepare package for lazy loading ** help *** installing help indices ** building package indices ** installing vignettes ** testing if installed package can be loaded * DONE (HarmonizedTCGAData)