Back to Multiple platform build/check report for BioC 3.7 experimental data |
This page was generated on 2018-10-16 14:19:38 -0400 (Tue, 16 Oct 2018).
Package 149/342 | Hostname | OS / Arch | INSTALL | BUILD | CHECK | BUILD BIN | ||||||
HelloRangesData 1.6.0 Michael Lawrence
| malbec2 | Linux (Ubuntu 16.04.1 LTS) / x86_64 | [ OK ] | OK | OK |
Package: HelloRangesData |
Version: 1.6.0 |
Command: /home/biocbuild/bbs-3.7-bioc/R/bin/R CMD INSTALL HelloRangesData |
StartedAt: 2018-10-16 08:57:21 -0400 (Tue, 16 Oct 2018) |
EndedAt: 2018-10-16 08:57:48 -0400 (Tue, 16 Oct 2018) |
EllapsedTime: 27.0 seconds |
RetCode: 0 |
Status: OK |
############################################################################## ############################################################################## ### ### Running command: ### ### /home/biocbuild/bbs-3.7-bioc/R/bin/R CMD INSTALL HelloRangesData ### ############################################################################## ############################################################################## * installing to library ‘/home/biocbuild/bbs-3.7-bioc/R/library’ * installing *source* package ‘HelloRangesData’ ... ** inst ** help No man pages found in package ‘HelloRangesData’ *** installing help indices ** building package indices ** installing vignettes ** testing if installed package can be loaded * DONE (HelloRangesData)