Back to Multiple platform build/check report for BioC 3.7 experimental data |
This page was generated on 2018-10-16 14:19:37 -0400 (Tue, 16 Oct 2018).
Package 161/342 | Hostname | OS / Arch | INSTALL | BUILD | CHECK | BUILD BIN | ||||||
HumanAffyData 1.6.0 Brad Nelms
| malbec2 | Linux (Ubuntu 16.04.1 LTS) / x86_64 | OK | [ OK ] | OK |
Package: HumanAffyData |
Version: 1.6.0 |
Command: /home/biocbuild/bbs-3.7-bioc/R/bin/R CMD build --keep-empty-dirs --no-resave-data HumanAffyData |
StartedAt: 2018-10-16 10:02:16 -0400 (Tue, 16 Oct 2018) |
EndedAt: 2018-10-16 10:02:43 -0400 (Tue, 16 Oct 2018) |
EllapsedTime: 27.2 seconds |
RetCode: 0 |
Status: OK |
PackageFile: HumanAffyData_1.6.0.tar.gz |
PackageFileSize: 151.2 KiB |
############################################################################## ############################################################################## ### ### Running command: ### ### /home/biocbuild/bbs-3.7-bioc/R/bin/R CMD build --keep-empty-dirs --no-resave-data HumanAffyData ### ############################################################################## ############################################################################## * checking for file ‘HumanAffyData/DESCRIPTION’ ... OK * preparing ‘HumanAffyData’: * checking DESCRIPTION meta-information ... OK * installing the package to build vignettes * creating vignettes ... OK * checking for LF line-endings in source and make files and shell scripts * checking for empty or unneeded directories * building ‘HumanAffyData_1.6.0.tar.gz’