Back to Multiple platform build/check report for BioC 3.7 experimental data |
This page was generated on 2018-10-16 14:18:35 -0400 (Tue, 16 Oct 2018).
Package 164/342 | Hostname | OS / Arch | INSTALL | BUILD | CHECK | BUILD BIN | ||||||
Illumina450ProbeVariants.db 1.16.0 Tiffany Morris
| malbec2 | Linux (Ubuntu 16.04.1 LTS) / x86_64 | [ OK ] | OK | OK | ![]() |
Package: Illumina450ProbeVariants.db |
Version: 1.16.0 |
Command: /home/biocbuild/bbs-3.7-bioc/R/bin/R CMD INSTALL Illumina450ProbeVariants.db |
StartedAt: 2018-10-16 08:58:42 -0400 (Tue, 16 Oct 2018) |
EndedAt: 2018-10-16 08:58:49 -0400 (Tue, 16 Oct 2018) |
EllapsedTime: 7.2 seconds |
RetCode: 0 |
Status: OK |
############################################################################## ############################################################################## ### ### Running command: ### ### /home/biocbuild/bbs-3.7-bioc/R/bin/R CMD INSTALL Illumina450ProbeVariants.db ### ############################################################################## ############################################################################## * installing to library ‘/home/biocbuild/bbs-3.7-bioc/R/library’ * installing *source* package ‘Illumina450ProbeVariants.db’ ... ** data ** help *** installing help indices ** building package indices ** testing if installed package can be loaded * DONE (Illumina450ProbeVariants.db)