Back to Multiple platform build/check report for BioC 3.7 experimental data |
This page was generated on 2018-10-16 14:19:56 -0400 (Tue, 16 Oct 2018).
Package 198/342 | Hostname | OS / Arch | INSTALL | BUILD | CHECK | BUILD BIN | ||||||
MetaGxPancreas 1.0.0 Michael Zon
| malbec2 | Linux (Ubuntu 16.04.1 LTS) / x86_64 | OK | OK | [ OK ] | ![]() |
Package: MetaGxPancreas |
Version: 1.0.0 |
Command: /home/biocbuild/bbs-3.7-bioc/R/bin/R CMD check --install=check:MetaGxPancreas.install-out.txt --library=/home/biocbuild/bbs-3.7-bioc/R/library --no-vignettes --timings MetaGxPancreas_1.0.0.tar.gz |
StartedAt: 2018-10-16 11:09:20 -0400 (Tue, 16 Oct 2018) |
EndedAt: 2018-10-16 11:12:22 -0400 (Tue, 16 Oct 2018) |
EllapsedTime: 181.2 seconds |
RetCode: 0 |
Status: OK |
CheckDir: MetaGxPancreas.Rcheck |
Warnings: 0 |
############################################################################## ############################################################################## ### ### Running command: ### ### /home/biocbuild/bbs-3.7-bioc/R/bin/R CMD check --install=check:MetaGxPancreas.install-out.txt --library=/home/biocbuild/bbs-3.7-bioc/R/library --no-vignettes --timings MetaGxPancreas_1.0.0.tar.gz ### ############################################################################## ############################################################################## * using log directory ‘/home/biocbuild/bbs-3.7-data-experiment/meat/MetaGxPancreas.Rcheck’ * using R version 3.5.1 Patched (2018-07-12 r74967) * using platform: x86_64-pc-linux-gnu (64-bit) * using session charset: UTF-8 * using option ‘--no-vignettes’ * checking for file ‘MetaGxPancreas/DESCRIPTION’ ... OK * checking extension type ... Package * this is package ‘MetaGxPancreas’ version ‘1.0.0’ * checking package namespace information ... OK * checking package dependencies ... OK * checking if this is a source package ... OK * checking if there is a namespace ... OK * checking for hidden files and directories ... OK * checking for portable file names ... OK * checking for sufficient/correct file permissions ... OK * checking whether package ‘MetaGxPancreas’ can be installed ... OK * checking installed package size ... OK * checking package directory ... OK * checking ‘build’ directory ... OK * checking DESCRIPTION meta-information ... OK * checking top-level files ... OK * checking for left-over files ... OK * checking index information ... OK * checking package subdirectories ... OK * checking R files for non-ASCII characters ... OK * checking R files for syntax errors ... OK * checking whether the package can be loaded ... OK * checking whether the package can be loaded with stated dependencies ... OK * checking whether the package can be unloaded cleanly ... OK * checking whether the namespace can be loaded with stated dependencies ... OK * checking whether the namespace can be unloaded cleanly ... OK * checking dependencies in R code ... OK * checking S3 generic/method consistency ... OK * checking replacement functions ... OK * checking foreign function calls ... OK * checking R code for possible problems ... OK * checking Rd files ... OK * checking Rd metadata ... OK * checking Rd cross-references ... OK * checking for missing documentation entries ... OK * checking for code/documentation mismatches ... OK * checking Rd \usage sections ... OK * checking Rd contents ... OK * checking for unstated dependencies in examples ... OK * checking files in ‘vignettes’ ... OK * checking examples ... OK Examples with CPU or elapsed time > 5s user system elapsed BADEA 8.992 0.416 10.193 PCSI 6.640 0.136 7.058 BALAGURUNATH 6.476 0.228 6.993 KIRBY 6.276 0.144 6.696 ICGCMICRO 6.200 0.140 6.612 TCGA 6.088 0.164 6.540 CHEN 6.116 0.132 6.642 ZHANG 6.100 0.128 6.571 UNC 6.044 0.140 6.470 loadPancreasEsets 5.904 0.172 6.355 PEI 5.884 0.176 6.311 COLLISON 5.856 0.188 6.308 GRUTZMANN 5.840 0.128 6.244 ICGCSEQ 5.808 0.148 6.258 WINTER 5.740 0.128 6.137 OUH 5.632 0.124 6.031 * checking for unstated dependencies in ‘tests’ ... OK * checking tests ... Running ‘required.R’ OK * checking for unstated dependencies in vignettes ... OK * checking package vignettes in ‘inst/doc’ ... OK * checking running R code from vignettes ... SKIPPED * checking re-building of vignette outputs ... SKIPPED * checking PDF version of manual ... OK * DONE Status: OK
MetaGxPancreas.Rcheck/00install.out
############################################################################## ############################################################################## ### ### Running command: ### ### /home/biocbuild/bbs-3.7-bioc/R/bin/R CMD INSTALL MetaGxPancreas ### ############################################################################## ############################################################################## * installing to library ‘/home/biocbuild/bbs-3.7-bioc/R/library’ * installing *source* package ‘MetaGxPancreas’ ... ** R ** inst ** byte-compile and prepare package for lazy loading ** help *** installing help indices ** building package indices ** installing vignettes ** testing if installed package can be loaded * DONE (MetaGxPancreas)
MetaGxPancreas.Rcheck/tests/required.Rout
R version 3.5.1 Patched (2018-07-12 r74967) -- "Feather Spray" Copyright (C) 2018 The R Foundation for Statistical Computing Platform: x86_64-pc-linux-gnu (64-bit) R is free software and comes with ABSOLUTELY NO WARRANTY. You are welcome to redistribute it under certain conditions. Type 'license()' or 'licence()' for distribution details. R is a collaborative project with many contributors. Type 'contributors()' for more information and 'citation()' on how to cite R or R packages in publications. Type 'demo()' for some demos, 'help()' for on-line help, or 'help.start()' for an HTML browser interface to help. Type 'q()' to quit R. > # > > proc.time() user system elapsed 0.140 0.028 0.161
MetaGxPancreas.Rcheck/MetaGxPancreas-Ex.timings
name | user | system | elapsed | |
BADEA | 8.992 | 0.416 | 10.193 | |
BALAGURUNATH | 6.476 | 0.228 | 6.993 | |
CHEN | 6.116 | 0.132 | 6.642 | |
COLLISON | 5.856 | 0.188 | 6.308 | |
GRUTZMANN | 5.840 | 0.128 | 6.244 | |
ICGCMICRO | 6.200 | 0.140 | 6.612 | |
ICGCSEQ | 5.808 | 0.148 | 6.258 | |
KIRBY | 6.276 | 0.144 | 6.696 | |
OUH | 5.632 | 0.124 | 6.031 | |
PCSI | 6.640 | 0.136 | 7.058 | |
PEI | 5.884 | 0.176 | 6.311 | |
TCGA | 6.088 | 0.164 | 6.540 | |
UNC | 6.044 | 0.140 | 6.470 | |
WINTER | 5.740 | 0.128 | 6.137 | |
ZHANG | 6.100 | 0.128 | 6.571 | |
loadPancreasEsets | 5.904 | 0.172 | 6.355 | |