Back to Multiple platform build/check report for BioC 3.7 experimental data |
This page was generated on 2018-10-16 14:19:43 -0400 (Tue, 16 Oct 2018).
Package 226/342 | Hostname | OS / Arch | INSTALL | BUILD | CHECK | BUILD BIN | ||||||
OnassisJavaLibs 1.2.0 Eugenia Galeota
| malbec2 | Linux (Ubuntu 16.04.1 LTS) / x86_64 | [ OK ] | OK | OK | ![]() |
Package: OnassisJavaLibs |
Version: 1.2.0 |
Command: /home/biocbuild/bbs-3.7-bioc/R/bin/R CMD INSTALL OnassisJavaLibs |
StartedAt: 2018-10-16 09:01:49 -0400 (Tue, 16 Oct 2018) |
EndedAt: 2018-10-16 09:01:56 -0400 (Tue, 16 Oct 2018) |
EllapsedTime: 7.2 seconds |
RetCode: 0 |
Status: OK |
############################################################################## ############################################################################## ### ### Running command: ### ### /home/biocbuild/bbs-3.7-bioc/R/bin/R CMD INSTALL OnassisJavaLibs ### ############################################################################## ############################################################################## * installing to library ‘/home/biocbuild/bbs-3.7-bioc/R/library’ * installing *source* package ‘OnassisJavaLibs’ ... ** R ** inst ** byte-compile and prepare package for lazy loading ** help *** installing help indices ** building package indices ** installing vignettes ** testing if installed package can be loaded * DONE (OnassisJavaLibs)