Back to Multiple platform build/check report for BioC 3.7 experimental data |
This page was generated on 2018-10-16 14:19:36 -0400 (Tue, 16 Oct 2018).
Package 252/342 | Hostname | OS / Arch | INSTALL | BUILD | CHECK | BUILD BIN | ||||||
PtH2O2lipids 1.6.0 James Collins
| malbec2 | Linux (Ubuntu 16.04.1 LTS) / x86_64 | [ OK ] | OK | WARNINGS |
Package: PtH2O2lipids |
Version: 1.6.0 |
Command: /home/biocbuild/bbs-3.7-bioc/R/bin/R CMD INSTALL PtH2O2lipids |
StartedAt: 2018-10-16 09:12:34 -0400 (Tue, 16 Oct 2018) |
EndedAt: 2018-10-16 09:12:56 -0400 (Tue, 16 Oct 2018) |
EllapsedTime: 21.3 seconds |
RetCode: 0 |
Status: OK |
############################################################################## ############################################################################## ### ### Running command: ### ### /home/biocbuild/bbs-3.7-bioc/R/bin/R CMD INSTALL PtH2O2lipids ### ############################################################################## ############################################################################## * installing to library ‘/home/biocbuild/bbs-3.7-bioc/R/library’ * installing *source* package ‘PtH2O2lipids’ ... ** R ** data ** inst ** byte-compile and prepare package for lazy loading ** help *** installing help indices ** building package indices ** testing if installed package can be loaded * DONE (PtH2O2lipids)