Back to Multiple platform build/check report for BioC 3.7 experimental data |
This page was generated on 2018-10-16 14:19:09 -0400 (Tue, 16 Oct 2018).
Package 258/342 | Hostname | OS / Arch | INSTALL | BUILD | CHECK | BUILD BIN | ||||||
QDNAseq.mm10 1.10.0 Daoud Sie
| malbec2 | Linux (Ubuntu 16.04.1 LTS) / x86_64 | OK | OK | [ OK ] |
Package: QDNAseq.mm10 |
Version: 1.10.0 |
Command: /home/biocbuild/bbs-3.7-bioc/R/bin/R CMD check --install=check:QDNAseq.mm10.install-out.txt --library=/home/biocbuild/bbs-3.7-bioc/R/library --no-vignettes --timings QDNAseq.mm10_1.10.0.tar.gz |
StartedAt: 2018-10-16 11:20:42 -0400 (Tue, 16 Oct 2018) |
EndedAt: 2018-10-16 11:22:37 -0400 (Tue, 16 Oct 2018) |
EllapsedTime: 115.4 seconds |
RetCode: 0 |
Status: OK |
CheckDir: QDNAseq.mm10.Rcheck |
Warnings: 0 |
############################################################################## ############################################################################## ### ### Running command: ### ### /home/biocbuild/bbs-3.7-bioc/R/bin/R CMD check --install=check:QDNAseq.mm10.install-out.txt --library=/home/biocbuild/bbs-3.7-bioc/R/library --no-vignettes --timings QDNAseq.mm10_1.10.0.tar.gz ### ############################################################################## ############################################################################## * using log directory ‘/home/biocbuild/bbs-3.7-data-experiment/meat/QDNAseq.mm10.Rcheck’ * using R version 3.5.1 Patched (2018-07-12 r74967) * using platform: x86_64-pc-linux-gnu (64-bit) * using session charset: UTF-8 * using option ‘--no-vignettes’ * checking for file ‘QDNAseq.mm10/DESCRIPTION’ ... OK * checking extension type ... Package * this is package ‘QDNAseq.mm10’ version ‘1.10.0’ * checking package namespace information ... OK * checking package dependencies ... OK * checking if this is a source package ... OK * checking if there is a namespace ... OK * checking for hidden files and directories ... OK * checking for portable file names ... OK * checking for sufficient/correct file permissions ... OK * checking whether package ‘QDNAseq.mm10’ can be installed ... OK * checking installed package size ... NOTE installed size is 31.3Mb sub-directories of 1Mb or more: data 31.2Mb * checking package directory ... OK * checking DESCRIPTION meta-information ... OK * checking top-level files ... OK * checking for left-over files ... OK * checking index information ... OK * checking package subdirectories ... OK * checking R files for non-ASCII characters ... OK * checking R files for syntax errors ... OK * checking whether the package can be loaded ... OK * checking whether the package can be loaded with stated dependencies ... OK * checking whether the package can be unloaded cleanly ... OK * checking whether the namespace can be loaded with stated dependencies ... OK * checking whether the namespace can be unloaded cleanly ... OK * checking dependencies in R code ... OK * checking S3 generic/method consistency ... OK * checking replacement functions ... OK * checking foreign function calls ... OK * checking R code for possible problems ... OK * checking Rd files ... OK * checking Rd metadata ... OK * checking Rd cross-references ... OK * checking for missing documentation entries ... OK * checking for code/documentation mismatches ... OK * checking Rd \usage sections ... OK * checking Rd contents ... OK * checking for unstated dependencies in examples ... OK * checking contents of ‘data’ directory ... OK * checking data for non-ASCII characters ... OK * checking data for ASCII and uncompressed saves ... OK * checking examples ... OK Examples with CPU or elapsed time > 5s user system elapsed mm10.1kbp.SR50 16.012 0.36 16.411 * checking PDF version of manual ... OK * DONE Status: 1 NOTE See ‘/home/biocbuild/bbs-3.7-data-experiment/meat/QDNAseq.mm10.Rcheck/00check.log’ for details.
QDNAseq.mm10.Rcheck/00install.out
############################################################################## ############################################################################## ### ### Running command: ### ### /home/biocbuild/bbs-3.7-bioc/R/bin/R CMD INSTALL QDNAseq.mm10 ### ############################################################################## ############################################################################## * installing to library ‘/home/biocbuild/bbs-3.7-bioc/R/library’ * installing *source* package ‘QDNAseq.mm10’ ... ** R ** data ** byte-compile and prepare package for lazy loading ** help *** installing help indices ** building package indices ** testing if installed package can be loaded * DONE (QDNAseq.mm10)
QDNAseq.mm10.Rcheck/QDNAseq.mm10-Ex.timings
name | user | system | elapsed | |
QDNAseq.mm10-package | 0.416 | 0.016 | 0.440 | |
mm10.1000kbp.SR50 | 0.032 | 0.008 | 0.038 | |
mm10.100kbp.SR50 | 0.504 | 0.008 | 0.541 | |
mm10.10kbp.SR50 | 1.608 | 0.044 | 1.655 | |
mm10.15kbp.SR50 | 1.052 | 0.040 | 1.097 | |
mm10.1kbp.SR50 | 16.012 | 0.360 | 16.411 | |
mm10.30kbp.SR50 | 0.396 | 0.020 | 0.417 | |
mm10.500kbp.SR50 | 0.060 | 0.004 | 0.080 | |
mm10.50kbp.SR50 | 0.260 | 0.016 | 0.281 | |
mm10.5kbp.SR50 | 2.840 | 0.116 | 2.961 | |