Back to Multiple platform build/check report for BioC 3.7 experimental data |
This page was generated on 2018-10-16 14:18:07 -0400 (Tue, 16 Oct 2018).
Package 266/342 | Hostname | OS / Arch | INSTALL | BUILD | CHECK | BUILD BIN | ||||||
RIPSeekerData 1.16.0 Alejandro Reyes
| malbec2 | Linux (Ubuntu 16.04.1 LTS) / x86_64 | OK | [ OK ] | WARNINGS | ![]() |
Package: RIPSeekerData |
Version: 1.16.0 |
Command: /home/biocbuild/bbs-3.7-bioc/R/bin/R CMD build --keep-empty-dirs --no-resave-data RIPSeekerData |
StartedAt: 2018-10-16 09:29:08 -0400 (Tue, 16 Oct 2018) |
EndedAt: 2018-10-16 09:30:21 -0400 (Tue, 16 Oct 2018) |
EllapsedTime: 73.1 seconds |
RetCode: 0 |
Status: OK |
PackageFile: RIPSeekerData_1.16.0.tar.gz |
PackageFileSize: 65.83 MiB |
############################################################################## ############################################################################## ### ### Running command: ### ### /home/biocbuild/bbs-3.7-bioc/R/bin/R CMD build --keep-empty-dirs --no-resave-data RIPSeekerData ### ############################################################################## ############################################################################## * checking for file ‘RIPSeekerData/DESCRIPTION’ ... OK * preparing ‘RIPSeekerData’: * checking DESCRIPTION meta-information ... OK * installing the package to build vignettes * creating vignettes ... OK * checking for LF line-endings in source and make files and shell scripts * checking for empty or unneeded directories * building ‘RIPSeekerData_1.16.0.tar.gz’