Back to Multiple platform build/check report for BioC 3.7 experimental data |
This page was generated on 2018-10-16 14:18:24 -0400 (Tue, 16 Oct 2018).
Package 270/342 | Hostname | OS / Arch | INSTALL | BUILD | CHECK | BUILD BIN | ||||||
RNAseqData.HNRNPC.bam.chr14 0.18.0 Hervé Pagès
| malbec2 | Linux (Ubuntu 16.04.1 LTS) / x86_64 | OK | OK | [ OK ] | ![]() |
Package: RNAseqData.HNRNPC.bam.chr14 |
Version: 0.18.0 |
Command: /home/biocbuild/bbs-3.7-bioc/R/bin/R CMD check --install=check:RNAseqData.HNRNPC.bam.chr14.install-out.txt --library=/home/biocbuild/bbs-3.7-bioc/R/library --no-vignettes --timings RNAseqData.HNRNPC.bam.chr14_0.18.0.tar.gz |
StartedAt: 2018-10-16 11:22:58 -0400 (Tue, 16 Oct 2018) |
EndedAt: 2018-10-16 11:23:41 -0400 (Tue, 16 Oct 2018) |
EllapsedTime: 43.4 seconds |
RetCode: 0 |
Status: OK |
CheckDir: RNAseqData.HNRNPC.bam.chr14.Rcheck |
Warnings: 0 |
############################################################################## ############################################################################## ### ### Running command: ### ### /home/biocbuild/bbs-3.7-bioc/R/bin/R CMD check --install=check:RNAseqData.HNRNPC.bam.chr14.install-out.txt --library=/home/biocbuild/bbs-3.7-bioc/R/library --no-vignettes --timings RNAseqData.HNRNPC.bam.chr14_0.18.0.tar.gz ### ############################################################################## ############################################################################## * using log directory ‘/home/biocbuild/bbs-3.7-data-experiment/meat/RNAseqData.HNRNPC.bam.chr14.Rcheck’ * using R version 3.5.1 Patched (2018-07-12 r74967) * using platform: x86_64-pc-linux-gnu (64-bit) * using session charset: UTF-8 * using option ‘--no-vignettes’ * checking for file ‘RNAseqData.HNRNPC.bam.chr14/DESCRIPTION’ ... OK * this is package ‘RNAseqData.HNRNPC.bam.chr14’ version ‘0.18.0’ * package encoding: UTF-8 * checking package namespace information ... OK * checking package dependencies ... OK * checking if this is a source package ... OK * checking if there is a namespace ... OK * checking for hidden files and directories ... OK * checking for portable file names ... OK * checking for sufficient/correct file permissions ... OK * checking whether package ‘RNAseqData.HNRNPC.bam.chr14’ can be installed ... OK * checking installed package size ... NOTE installed size is 420.3Mb sub-directories of 1Mb or more: extdata 420.1Mb * checking package directory ... OK * checking DESCRIPTION meta-information ... OK * checking top-level files ... OK * checking for left-over files ... OK * checking index information ... OK * checking package subdirectories ... OK * checking R files for non-ASCII characters ... OK * checking R files for syntax errors ... OK * checking whether the package can be loaded ... OK * checking whether the package can be loaded with stated dependencies ... OK * checking whether the package can be unloaded cleanly ... OK * checking whether the namespace can be loaded with stated dependencies ... OK * checking whether the namespace can be unloaded cleanly ... OK * checking dependencies in R code ... OK * checking S3 generic/method consistency ... OK * checking replacement functions ... OK * checking foreign function calls ... OK * checking R code for possible problems ... OK * checking Rd files ... OK * checking Rd metadata ... OK * checking Rd cross-references ... OK * checking for missing documentation entries ... OK * checking for code/documentation mismatches ... OK * checking Rd \usage sections ... OK * checking Rd contents ... OK * checking for unstated dependencies in examples ... OK * checking examples ... OK Examples with CPU or elapsed time > 5s user system elapsed RNAseqData.HNRNPC.bam.chr14-package 12.772 0.288 14.143 * checking PDF version of manual ... OK * DONE Status: 1 NOTE See ‘/home/biocbuild/bbs-3.7-data-experiment/meat/RNAseqData.HNRNPC.bam.chr14.Rcheck/00check.log’ for details.
RNAseqData.HNRNPC.bam.chr14.Rcheck/00install.out
############################################################################## ############################################################################## ### ### Running command: ### ### /home/biocbuild/bbs-3.7-bioc/R/bin/R CMD INSTALL RNAseqData.HNRNPC.bam.chr14 ### ############################################################################## ############################################################################## * installing to library ‘/home/biocbuild/bbs-3.7-bioc/R/library’ * installing *source* package ‘RNAseqData.HNRNPC.bam.chr14’ ... ** R ** inst ** byte-compile and prepare package for lazy loading ** help *** installing help indices ** building package indices ** testing if installed package can be loaded * DONE (RNAseqData.HNRNPC.bam.chr14)
RNAseqData.HNRNPC.bam.chr14.Rcheck/RNAseqData.HNRNPC.bam.chr14-Ex.timings
name | user | system | elapsed | |
RNAseqData.HNRNPC.bam.chr14-package | 12.772 | 0.288 | 14.143 | |