Back to Multiple platform build/check report for BioC 3.7 experimental data |
This page was generated on 2018-10-16 14:18:13 -0400 (Tue, 16 Oct 2018).
Package 304/342 | Hostname | OS / Arch | INSTALL | BUILD | CHECK | BUILD BIN | ||||||
SomatiCAData 1.18.0 Mengjie Chen
| malbec2 | Linux (Ubuntu 16.04.1 LTS) / x86_64 | OK | [ OK ] | WARNINGS | ![]() |
Package: SomatiCAData |
Version: 1.18.0 |
Command: /home/biocbuild/bbs-3.7-bioc/R/bin/R CMD build --keep-empty-dirs --no-resave-data SomatiCAData |
StartedAt: 2018-10-16 09:30:47 -0400 (Tue, 16 Oct 2018) |
EndedAt: 2018-10-16 09:30:51 -0400 (Tue, 16 Oct 2018) |
EllapsedTime: 3.5 seconds |
RetCode: 0 |
Status: OK |
PackageFile: SomatiCAData_1.18.0.tar.gz |
PackageFileSize: 32.14 MiB |
############################################################################## ############################################################################## ### ### Running command: ### ### /home/biocbuild/bbs-3.7-bioc/R/bin/R CMD build --keep-empty-dirs --no-resave-data SomatiCAData ### ############################################################################## ############################################################################## * checking for file ‘SomatiCAData/DESCRIPTION’ ... OK * preparing ‘SomatiCAData’: * checking DESCRIPTION meta-information ... OK * checking for LF line-endings in source and make files and shell scripts * checking for empty or unneeded directories * looking to see if a ‘data/datalist’ file should be added * building ‘SomatiCAData_1.18.0.tar.gz’