Back to Multiple platform build/check report for BioC 3.7 experimental data |
This page was generated on 2018-10-16 14:19:41 -0400 (Tue, 16 Oct 2018).
Package 320/342 | Hostname | OS / Arch | INSTALL | BUILD | CHECK | BUILD BIN | ||||||
TCGAWorkflowData 1.4.0 Tiago Chedraoui Silva
| malbec2 | Linux (Ubuntu 16.04.1 LTS) / x86_64 | OK | [ OK ] | OK |
Package: TCGAWorkflowData |
Version: 1.4.0 |
Command: /home/biocbuild/bbs-3.7-bioc/R/bin/R CMD build --keep-empty-dirs --no-resave-data TCGAWorkflowData |
StartedAt: 2018-10-16 10:03:12 -0400 (Tue, 16 Oct 2018) |
EndedAt: 2018-10-16 10:05:40 -0400 (Tue, 16 Oct 2018) |
EllapsedTime: 148.3 seconds |
RetCode: 0 |
Status: OK |
PackageFile: TCGAWorkflowData_1.4.0.tar.gz |
PackageFileSize: 76.25 MiB |
############################################################################## ############################################################################## ### ### Running command: ### ### /home/biocbuild/bbs-3.7-bioc/R/bin/R CMD build --keep-empty-dirs --no-resave-data TCGAWorkflowData ### ############################################################################## ############################################################################## * checking for file ‘TCGAWorkflowData/DESCRIPTION’ ... OK * preparing ‘TCGAWorkflowData’: * checking DESCRIPTION meta-information ... OK * installing the package to build vignettes * creating vignettes ... OK * checking for LF line-endings in source and make files and shell scripts * checking for empty or unneeded directories * looking to see if a ‘data/datalist’ file should be added * building ‘TCGAWorkflowData_1.4.0.tar.gz’