Back to Multiple platform build/check report for BioC 3.7 experimental data |
This page was generated on 2018-10-16 14:17:34 -0400 (Tue, 16 Oct 2018).
Package 30/342 | Hostname | OS / Arch | INSTALL | BUILD | CHECK | BUILD BIN | ||||||
breastCancerTRANSBIG 1.18.0 Markus Schroeder
| malbec2 | Linux (Ubuntu 16.04.1 LTS) / x86_64 | [ OK ] | OK | WARNINGS |
Package: breastCancerTRANSBIG |
Version: 1.18.0 |
Command: /home/biocbuild/bbs-3.7-bioc/R/bin/R CMD INSTALL breastCancerTRANSBIG |
StartedAt: 2018-10-16 08:58:00 -0400 (Tue, 16 Oct 2018) |
EndedAt: 2018-10-16 08:58:05 -0400 (Tue, 16 Oct 2018) |
EllapsedTime: 5.1 seconds |
RetCode: 0 |
Status: OK |
############################################################################## ############################################################################## ### ### Running command: ### ### /home/biocbuild/bbs-3.7-bioc/R/bin/R CMD INSTALL breastCancerTRANSBIG ### ############################################################################## ############################################################################## * installing to library ‘/home/biocbuild/bbs-3.7-bioc/R/library’ * installing *source* package ‘breastCancerTRANSBIG’ ... ** data ** help *** installing help indices ** building package indices ** testing if installed package can be loaded * DONE (breastCancerTRANSBIG)