Back to Multiple platform build/check report for BioC 3.7 experimental data |
This page was generated on 2018-10-16 14:17:11 -0400 (Tue, 16 Oct 2018).
Package 121/342 | Hostname | OS / Arch | INSTALL | BUILD | CHECK | BUILD BIN | ||||||
gcspikelite 1.18.0 Mark Robinson
| malbec2 | Linux (Ubuntu 16.04.1 LTS) / x86_64 | [ OK ] | OK | WARNINGS | ![]() |
Package: gcspikelite |
Version: 1.18.0 |
Command: /home/biocbuild/bbs-3.7-bioc/R/bin/R CMD INSTALL gcspikelite |
StartedAt: 2018-10-16 09:01:03 -0400 (Tue, 16 Oct 2018) |
EndedAt: 2018-10-16 09:01:12 -0400 (Tue, 16 Oct 2018) |
EllapsedTime: 9.1 seconds |
RetCode: 0 |
Status: OK |
############################################################################## ############################################################################## ### ### Running command: ### ### /home/biocbuild/bbs-3.7-bioc/R/bin/R CMD INSTALL gcspikelite ### ############################################################################## ############################################################################## * installing to library ‘/home/biocbuild/bbs-3.7-bioc/R/library’ * installing *source* package ‘gcspikelite’ ... ** R ** data ** byte-compile and prepare package for lazy loading ** help *** installing help indices ** building package indices ** testing if installed package can be loaded * DONE (gcspikelite)