Back to Multiple platform build/check report for BioC 3.7 experimental data |
This page was generated on 2018-10-16 14:17:02 -0400 (Tue, 16 Oct 2018).
Package 139/342 | Hostname | OS / Arch | INSTALL | BUILD | CHECK | BUILD BIN | ||||||
hapmap500ksty 1.22.0 Benilton Carvalho
| malbec2 | Linux (Ubuntu 16.04.1 LTS) / x86_64 | [ OK ] | OK | OK |
Package: hapmap500ksty |
Version: 1.22.0 |
Command: /home/biocbuild/bbs-3.7-bioc/R/bin/R CMD INSTALL hapmap500ksty |
StartedAt: 2018-10-16 09:00:13 -0400 (Tue, 16 Oct 2018) |
EndedAt: 2018-10-16 09:00:22 -0400 (Tue, 16 Oct 2018) |
EllapsedTime: 9.2 seconds |
RetCode: 0 |
Status: OK |
############################################################################## ############################################################################## ### ### Running command: ### ### /home/biocbuild/bbs-3.7-bioc/R/bin/R CMD INSTALL hapmap500ksty ### ############################################################################## ############################################################################## * installing to library ‘/home/biocbuild/bbs-3.7-bioc/R/library’ * installing *source* package ‘hapmap500ksty’ ... ** R ** inst ** byte-compile and prepare package for lazy loading ** help *** installing help indices ** building package indices ** testing if installed package can be loaded * DONE (hapmap500ksty)