Back to Multiple platform build/check report for BioC 3.7 experimental data |
This page was generated on 2018-10-16 14:18:53 -0400 (Tue, 16 Oct 2018).
Package 187/342 | Hostname | OS / Arch | INSTALL | BUILD | CHECK | BUILD BIN | ||||||
mAPKLData 1.12.0 Argiris Sakellariou
| malbec2 | Linux (Ubuntu 16.04.1 LTS) / x86_64 | [ OK ] | OK | WARNINGS |
Package: mAPKLData |
Version: 1.12.0 |
Command: /home/biocbuild/bbs-3.7-bioc/R/bin/R CMD INSTALL mAPKLData |
StartedAt: 2018-10-16 08:59:31 -0400 (Tue, 16 Oct 2018) |
EndedAt: 2018-10-16 08:59:35 -0400 (Tue, 16 Oct 2018) |
EllapsedTime: 3.8 seconds |
RetCode: 0 |
Status: OK |
############################################################################## ############################################################################## ### ### Running command: ### ### /home/biocbuild/bbs-3.7-bioc/R/bin/R CMD INSTALL mAPKLData ### ############################################################################## ############################################################################## * installing to library ‘/home/biocbuild/bbs-3.7-bioc/R/library’ * installing *source* package ‘mAPKLData’ ... ** data ** help *** installing help indices ** building package indices ** installing vignettes ** testing if installed package can be loaded * DONE (mAPKLData)