Back to Multiple platform build/check report for BioC 3.7 experimental data |
This page was generated on 2018-10-16 14:19:50 -0400 (Tue, 16 Oct 2018).
Package 192/342 | Hostname | OS / Arch | INSTALL | BUILD | CHECK | BUILD BIN | ||||||
mCSEAdata 1.0.0 Jordi Martorell Marugán
| malbec2 | Linux (Ubuntu 16.04.1 LTS) / x86_64 | [ OK ] | OK | OK |
Package: mCSEAdata |
Version: 1.0.0 |
Command: /home/biocbuild/bbs-3.7-bioc/R/bin/R CMD INSTALL mCSEAdata |
StartedAt: 2018-10-16 09:00:00 -0400 (Tue, 16 Oct 2018) |
EndedAt: 2018-10-16 09:00:21 -0400 (Tue, 16 Oct 2018) |
EllapsedTime: 20.7 seconds |
RetCode: 0 |
Status: OK |
############################################################################## ############################################################################## ### ### Running command: ### ### /home/biocbuild/bbs-3.7-bioc/R/bin/R CMD INSTALL mCSEAdata ### ############################################################################## ############################################################################## * installing to library ‘/home/biocbuild/bbs-3.7-bioc/R/library’ * installing *source* package ‘mCSEAdata’ ... ** data *** moving datasets to lazyload DB ** inst ** help *** installing help indices ** building package indices ** installing vignettes ** testing if installed package can be loaded * DONE (mCSEAdata)