Back to Multiple platform build/check report for BioC 3.7 experimental data |
This page was generated on 2018-10-16 14:18:24 -0400 (Tue, 16 Oct 2018).
Package 186/342 | Hostname | OS / Arch | INSTALL | BUILD | CHECK | BUILD BIN | ||||||
mammaPrintData 1.16.0 Luigi Marchionni
| malbec2 | Linux (Ubuntu 16.04.1 LTS) / x86_64 | [ OK ] | OK | OK | ![]() |
Package: mammaPrintData |
Version: 1.16.0 |
Command: /home/biocbuild/bbs-3.7-bioc/R/bin/R CMD INSTALL mammaPrintData |
StartedAt: 2018-10-16 08:58:33 -0400 (Tue, 16 Oct 2018) |
EndedAt: 2018-10-16 08:59:51 -0400 (Tue, 16 Oct 2018) |
EllapsedTime: 77.3 seconds |
RetCode: 0 |
Status: OK |
############################################################################## ############################################################################## ### ### Running command: ### ### /home/biocbuild/bbs-3.7-bioc/R/bin/R CMD INSTALL mammaPrintData ### ############################################################################## ############################################################################## * installing to library ‘/home/biocbuild/bbs-3.7-bioc/R/library’ * installing *source* package ‘mammaPrintData’ ... ** data ** inst ** help *** installing help indices ** building package indices ** installing vignettes ** testing if installed package can be loaded * DONE (mammaPrintData)