name | user | system | elapsed
|
HS_conv_id | 0.012 | 0.000 | 0.025 |
|
HS_refseq_to_affy_hc_g110 | 0.004 | 0.000 | 0.004 |
|
HS_refseq_to_affy_hg_focus | 0.020 | 0.000 | 0.018 |
|
HS_refseq_to_affy_hg_u133_plus_2 | 0.056 | 0.000 | 0.062 |
|
HS_refseq_to_affy_hg_u133a | 0.040 | 0.000 | 0.037 |
|
HS_refseq_to_affy_hg_u133a_2 | 0.036 | 0.000 | 0.043 |
|
HS_refseq_to_affy_hg_u133b | 0.016 | 0.000 | 0.024 |
|
HS_refseq_to_affy_hg_u95a | 0.020 | 0.000 | 0.023 |
|
HS_refseq_to_affy_hg_u95av2 | 0.020 | 0.000 | 0.026 |
|
HS_refseq_to_affy_hg_u95b | 0.016 | 0.000 | 0.013 |
|
HS_refseq_to_affy_hg_u95c | 0.008 | 0.000 | 0.011 |
|
HS_refseq_to_affy_hg_u95d | 0.004 | 0.000 | 0.007 |
|
HS_refseq_to_affy_hg_u95e | 0.008 | 0.004 | 0.011 |
|
HS_refseq_to_affy_huex_1_0_st_v2 | 0.884 | 0.020 | 0.927 |
|
HS_refseq_to_affy_hugene_1_0_st_v1 | 0.048 | 0.004 | 0.058 |
|
HS_refseq_to_affy_hugenefl | 0.016 | 0.000 | 0.015 |
|
HS_refseq_to_affy_u133_x3p | 0.076 | 0.000 | 0.080 |
|
HS_refseq_to_agilent_cgh_44b | 0.012 | 0.000 | 0.026 |
|
HS_refseq_to_agilent_wholegenome | 0.068 | 0.004 | 0.072 |
|
HS_refseq_to_canonical_transcript_stable_id | 0.060 | 0.008 | 0.069 |
|
HS_refseq_to_ccds | 0.044 | 0.000 | 0.044 |
|
HS_refseq_to_codelink | 0.040 | 0.000 | 0.047 |
|
HS_refseq_to_efg_agilent_sureprint_g3_ge_8x60k | 0.004 | 0.000 | 0.002 |
|
HS_refseq_to_efg_agilent_wholegenome_4x44k_v1 | 0.000 | 0.000 | 0.002 |
|
HS_refseq_to_efg_agilent_wholegenome_4x44k_v2 | 0.000 | 0.000 | 0.001 |
|
HS_refseq_to_embl | 0.736 | 0.008 | 0.746 |
|
HS_refseq_to_ensembl_exon_id | 0.000 | 0.000 | 0.002 |
|
HS_refseq_to_ensembl_gene_id | 0.044 | 0.004 | 0.047 |
|
HS_refseq_to_ensembl_peptide_id | 0.048 | 0.000 | 0.046 |
|
HS_refseq_to_ensembl_transcript_id | 0.060 | 0.000 | 0.078 |
|
HS_refseq_to_entrezgene | 0.048 | 0.004 | 0.052 |
|
HS_refseq_to_hgnc_id | 0.044 | 0.000 | 0.043 |
|
HS_refseq_to_hgnc_symbol | 0.044 | 0.000 | 0.045 |
|
HS_refseq_to_hgnc_transcript_name | 0.040 | 0.008 | 0.051 |
|
HS_refseq_to_illumina_humanht_12 | 0.184 | 0.000 | 0.186 |
|
HS_refseq_to_illumina_humanwg_6_v1 | 0.044 | 0.000 | 0.043 |
|
HS_refseq_to_illumina_humanwg_6_v2 | 0.036 | 0.000 | 0.035 |
|
HS_refseq_to_illumina_humanwg_6_v3 | 0.040 | 0.000 | 0.041 |
|
HS_refseq_to_interpro | 0.116 | 0.000 | 0.117 |
|
HS_refseq_to_ipi | 0.096 | 0.000 | 0.112 |
|
HS_refseq_to_merops | 0.004 | 0.000 | 0.007 |
|
HS_refseq_to_pdb | 0.068 | 0.008 | 0.076 |
|
HS_refseq_to_pfam | 0.060 | 0.000 | 0.059 |
|
HS_refseq_to_phalanx_onearray | 0.036 | 0.000 | 0.036 |
|
HS_refseq_to_protein_id | 0.764 | 0.008 | 0.788 |
|
HS_refseq_to_refseq_dna | 0.052 | 0.004 | 0.059 |
|
HS_refseq_to_refseq_genomic | 0.000 | 0.000 | 0.002 |
|
HS_refseq_to_refseq_peptide | 0.276 | 0.008 | 0.283 |
|
HS_refseq_to_rfam | 0.004 | 0.000 | 0.004 |
|
HS_refseq_to_rfam_gene_name | 0.000 | 0.000 | 0.001 |
|
HS_refseq_to_rfam_transcript_name | 0.000 | 0.000 | 0.015 |
|
HS_refseq_to_smart | 0.032 | 0.000 | 0.035 |
|
HS_refseq_to_tigrfam | 0.008 | 0.000 | 0.016 |
|
HS_refseq_to_ucsc | 0.052 | 0.000 | 0.051 |
|
HS_refseq_to_unigene | 0.076 | 0.000 | 0.075 |
|
HS_refseq_to_uniprot_genename | 0.048 | 0.000 | 0.049 |
|
HS_refseq_to_uniprot_genename_transcript_name | 0.000 | 0.000 | 0.002 |
|
HS_refseq_to_uniprot_sptrembl | 0.000 | 0.000 | 0.002 |
|
HS_refseq_to_uniprot_swissprot | 0.000 | 0.004 | 0.002 |
|
HS_refseq_to_uniprot_swissprot_accession | 0.004 | 0.000 | 0.002 |
|
HS_refseq_to_wikigene_id | 0.000 | 0.000 | 0.002 |
|
HS_refseq_to_wikigene_name | 0.052 | 0.000 | 0.060 |
|
MM_conv_id | 0.004 | 0.000 | 0.009 |
|
MM_refseq_to_affy_mg_u74a | 0.020 | 0.000 | 0.017 |
|
MM_refseq_to_affy_mg_u74av2 | 0.016 | 0.000 | 0.018 |
|
MM_refseq_to_affy_mg_u74b | 0.016 | 0.000 | 0.021 |
|
MM_refseq_to_affy_mg_u74bv2 | 0.016 | 0.000 | 0.015 |
|
MM_refseq_to_affy_mg_u74c | 0.004 | 0.000 | 0.008 |
|
MM_refseq_to_affy_mg_u74cv2 | 0.004 | 0.000 | 0.009 |
|
MM_refseq_to_affy_moe430a | 0.032 | 0.004 | 0.041 |
|
MM_refseq_to_affy_moe430b | 0.012 | 0.004 | 0.017 |
|
MM_refseq_to_affy_moex_1_0_st_v1 | 0.456 | 0.004 | 0.475 |
|
MM_refseq_to_affy_mogene_1_0_st_v1 | 0.036 | 0.000 | 0.037 |
|
MM_refseq_to_affy_mouse430_2 | 0.04 | 0.00 | 0.04 |
|
MM_refseq_to_affy_mouse430a_2 | 0.028 | 0.000 | 0.028 |
|
MM_refseq_to_affy_mu11ksuba | 0.008 | 0.000 | 0.012 |
|
MM_refseq_to_affy_mu11ksubb | 0.008 | 0.000 | 0.007 |
|
MM_refseq_to_agilent_wholegenome | 0.052 | 0.004 | 0.057 |
|
MM_refseq_to_canonical_transcript_stable_id | 0.052 | 0.004 | 0.056 |
|
MM_refseq_to_ccds | 0.192 | 0.000 | 0.190 |
|
MM_refseq_to_codelink | 0.032 | 0.000 | 0.032 |
|
MM_refseq_to_efg_agilent_sureprint_g3_ge_8x60k | 0.000 | 0.000 | 0.002 |
|
MM_refseq_to_efg_agilent_wholegenome_4x44k_v1 | 0.000 | 0.000 | 0.002 |
|
MM_refseq_to_efg_agilent_wholegenome_4x44k_v2 | 0.000 | 0.000 | 0.002 |
|
MM_refseq_to_embl | 0.284 | 0.000 | 0.284 |
|
MM_refseq_to_ensembl_exon_id | 0.000 | 0.000 | 0.002 |
|
MM_refseq_to_ensembl_gene_id | 0.032 | 0.000 | 0.034 |
|
MM_refseq_to_ensembl_peptide_id | 0.284 | 0.000 | 0.282 |
|
MM_refseq_to_ensembl_transcript_id | 0.032 | 0.000 | 0.030 |
|
MM_refseq_to_entrezgene | 0.028 | 0.000 | 0.028 |
|
MM_refseq_to_fantom | 0.076 | 0.000 | 0.078 |
|
MM_refseq_to_illumina_mousewg_6_v1 | 0.036 | 0.000 | 0.039 |
|
MM_refseq_to_illumina_mousewg_6_v2 | 0.044 | 0.000 | 0.042 |
|
MM_refseq_to_interpro | 0.084 | 0.000 | 0.084 |
|
MM_refseq_to_ipi | 0.000 | 0.004 | 0.007 |
|
MM_refseq_to_merops | 0.004 | 0.000 | 0.004 |
|
MM_refseq_to_mgi_id | 0.028 | 0.000 | 0.029 |
|
MM_refseq_to_mgi_symbol | 0.028 | 0.000 | 0.030 |
|
MM_refseq_to_mgi_transcript_name | 0.032 | 0.000 | 0.032 |
|
MM_refseq_to_pdb | 0.012 | 0.000 | 0.011 |
|
MM_refseq_to_pfam | 0.048 | 0.000 | 0.049 |
|
MM_refseq_to_phalanx_onearray | 0.028 | 0.000 | 0.027 |
|
MM_refseq_to_protein_id | 0.232 | 0.000 | 0.229 |
|
MM_refseq_to_refseq_dna | 0.040 | 0.000 | 0.045 |
|
MM_refseq_to_refseq_peptide | 0.064 | 0.000 | 0.062 |
|
MM_refseq_to_rfam | 0.004 | 0.000 | 0.002 |
|
MM_refseq_to_rfam_gene_name | 0.000 | 0.000 | 0.001 |
|
MM_refseq_to_rfam_transcript_name | 0.004 | 0.000 | 0.001 |
|
MM_refseq_to_smart | 0.024 | 0.000 | 0.025 |
|
MM_refseq_to_tigrfam | 0.000 | 0.004 | 0.006 |
|
MM_refseq_to_ucsc | 0.032 | 0.000 | 0.033 |
|
MM_refseq_to_unigene | 0.040 | 0.000 | 0.041 |
|
MM_refseq_to_uniprot_genename | 0.032 | 0.000 | 0.030 |
|
MM_refseq_to_uniprot_genename_transcript_name | 0.000 | 0.000 | 0.002 |
|
MM_refseq_to_uniprot_sptrembl | 0.004 | 0.000 | 0.001 |
|
MM_refseq_to_uniprot_swissprot | 0.000 | 0.000 | 0.002 |
|
MM_refseq_to_uniprot_swissprot_accession | 0.000 | 0.000 | 0.002 |
|
MM_refseq_to_wikigene_id | 0.004 | 0.000 | 0.001 |
|
MM_refseq_to_wikigene_name | 0.032 | 0.000 | 0.032 |
|
TBL2 | 1.060 | 0.044 | 1.117 |
|
TBL2_HS | 1.440 | 0.100 | 1.558 |
|
TBL2_MM | 0.768 | 0.072 | 0.843 |
|
conv_id | 0.000 | 0.000 | 0.003 |
|
id_conv | 0.032 | 0.000 | 0.030 |
|