Back to Multiple platform build/check report for BioC 3.7 experimental data |
This page was generated on 2018-10-16 14:19:42 -0400 (Tue, 16 Oct 2018).
Package 202/342 | Hostname | OS / Arch | INSTALL | BUILD | CHECK | BUILD BIN | ||||||
microRNAome 1.2.0 Matthew N. McCall
| malbec2 | Linux (Ubuntu 16.04.1 LTS) / x86_64 | [ OK ] | OK | OK | ![]() |
Package: microRNAome |
Version: 1.2.0 |
Command: /home/biocbuild/bbs-3.7-bioc/R/bin/R CMD INSTALL microRNAome |
StartedAt: 2018-10-16 09:05:37 -0400 (Tue, 16 Oct 2018) |
EndedAt: 2018-10-16 09:05:48 -0400 (Tue, 16 Oct 2018) |
EllapsedTime: 11.5 seconds |
RetCode: 0 |
Status: OK |
############################################################################## ############################################################################## ### ### Running command: ### ### /home/biocbuild/bbs-3.7-bioc/R/bin/R CMD INSTALL microRNAome ### ############################################################################## ############################################################################## * installing to library ‘/home/biocbuild/bbs-3.7-bioc/R/library’ * installing *source* package ‘microRNAome’ ... ** data ** inst ** help *** installing help indices ** building package indices ** testing if installed package can be loaded * DONE (microRNAome)