Back to Multiple platform build/check report for BioC 3.7 experimental data |
This page was generated on 2018-10-16 14:17:16 -0400 (Tue, 16 Oct 2018).
Package 212/342 | Hostname | OS / Arch | INSTALL | BUILD | CHECK | BUILD BIN | ||||||
mouse4302barcodevecs 1.18.0 Matthew N. McCall
| malbec2 | Linux (Ubuntu 16.04.1 LTS) / x86_64 | [ OK ] | OK | OK |
Package: mouse4302barcodevecs |
Version: 1.18.0 |
Command: /home/biocbuild/bbs-3.7-bioc/R/bin/R CMD INSTALL mouse4302barcodevecs |
StartedAt: 2018-10-16 08:59:39 -0400 (Tue, 16 Oct 2018) |
EndedAt: 2018-10-16 08:59:42 -0400 (Tue, 16 Oct 2018) |
EllapsedTime: 3.5 seconds |
RetCode: 0 |
Status: OK |
############################################################################## ############################################################################## ### ### Running command: ### ### /home/biocbuild/bbs-3.7-bioc/R/bin/R CMD INSTALL mouse4302barcodevecs ### ############################################################################## ############################################################################## * installing to library ‘/home/biocbuild/bbs-3.7-bioc/R/library’ * installing *source* package ‘mouse4302barcodevecs’ ... ** data ** help *** installing help indices ** building package indices ** testing if installed package can be loaded * DONE (mouse4302barcodevecs)