Back to Multiple platform build/check report for BioC 3.7 experimental data |
This page was generated on 2018-10-16 14:18:04 -0400 (Tue, 16 Oct 2018).
Package 238/342 | Hostname | OS / Arch | INSTALL | BUILD | CHECK | BUILD BIN | ||||||
pd.atdschip.tiling 0.18.0 Kristof De Beuf
| malbec2 | Linux (Ubuntu 16.04.1 LTS) / x86_64 | [ OK ] | OK | WARNINGS |
Package: pd.atdschip.tiling |
Version: 0.18.0 |
Command: /home/biocbuild/bbs-3.7-bioc/R/bin/R CMD INSTALL pd.atdschip.tiling |
StartedAt: 2018-10-16 09:08:23 -0400 (Tue, 16 Oct 2018) |
EndedAt: 2018-10-16 09:08:58 -0400 (Tue, 16 Oct 2018) |
EllapsedTime: 34.9 seconds |
RetCode: 0 |
Status: OK |
############################################################################## ############################################################################## ### ### Running command: ### ### /home/biocbuild/bbs-3.7-bioc/R/bin/R CMD INSTALL pd.atdschip.tiling ### ############################################################################## ############################################################################## * installing to library ‘/home/biocbuild/bbs-3.7-bioc/R/library’ * installing *source* package ‘pd.atdschip.tiling’ ... ** R ** data ** inst ** byte-compile and prepare package for lazy loading ** help *** installing help indices Warning: call dbDisconnect() when finished working with a connection ** building package indices ** testing if installed package can be loaded * DONE (pd.atdschip.tiling)