Back to Multiple platform build/check report for BioC 3.7 experimental data |
This page was generated on 2018-10-16 14:18:21 -0400 (Tue, 16 Oct 2018).
Package 243/342 | Hostname | OS / Arch | INSTALL | BUILD | CHECK | BUILD BIN | ||||||
prebsdata 1.16.0 Karolis Uziela
| malbec2 | Linux (Ubuntu 16.04.1 LTS) / x86_64 | [ OK ] | OK | OK |
Package: prebsdata |
Version: 1.16.0 |
Command: /home/biocbuild/bbs-3.7-bioc/R/bin/R CMD INSTALL prebsdata |
StartedAt: 2018-10-16 09:01:19 -0400 (Tue, 16 Oct 2018) |
EndedAt: 2018-10-16 09:01:28 -0400 (Tue, 16 Oct 2018) |
EllapsedTime: 9.9 seconds |
RetCode: 0 |
Status: OK |
############################################################################## ############################################################################## ### ### Running command: ### ### /home/biocbuild/bbs-3.7-bioc/R/bin/R CMD INSTALL prebsdata ### ############################################################################## ############################################################################## * installing to library ‘/home/biocbuild/bbs-3.7-bioc/R/library’ * installing *source* package ‘prebsdata’ ... ** inst ** help No man pages found in package ‘prebsdata’ *** installing help indices ** building package indices ** installing vignettes ** testing if installed package can be loaded * DONE (prebsdata)