Back to Multiple platform build/check report for BioC 3.7 experimental data |
This page was generated on 2018-10-16 14:16:59 -0400 (Tue, 16 Oct 2018).
Package 253/342 | Hostname | OS / Arch | INSTALL | BUILD | CHECK | BUILD BIN | ||||||
pumadata 2.16.0 Richard Pearson
| malbec2 | Linux (Ubuntu 16.04.1 LTS) / x86_64 | [ OK ] | OK | OK | ![]() |
Package: pumadata |
Version: 2.16.0 |
Command: /home/biocbuild/bbs-3.7-bioc/R/bin/R CMD INSTALL pumadata |
StartedAt: 2018-10-16 09:08:18 -0400 (Tue, 16 Oct 2018) |
EndedAt: 2018-10-16 09:09:10 -0400 (Tue, 16 Oct 2018) |
EllapsedTime: 52.1 seconds |
RetCode: 0 |
Status: OK |
############################################################################## ############################################################################## ### ### Running command: ### ### /home/biocbuild/bbs-3.7-bioc/R/bin/R CMD INSTALL pumadata ### ############################################################################## ############################################################################## * installing to library ‘/home/biocbuild/bbs-3.7-bioc/R/library’ * installing *source* package ‘pumadata’ ... ** R ** data ** byte-compile and prepare package for lazy loading ** help *** installing help indices ** building package indices ** installing vignettes ** testing if installed package can be loaded * DONE (pumadata)