Back to Multiple platform build/check report for BioC 3.7 experimental data |
This page was generated on 2018-10-16 14:17:05 -0400 (Tue, 16 Oct 2018).
Package 337/342 | Hostname | OS / Arch | INSTALL | BUILD | CHECK | BUILD BIN | ||||||
yeastGSData 0.18.0 R. Gentleman
| malbec2 | Linux (Ubuntu 16.04.1 LTS) / x86_64 | [ OK ] | OK | WARNINGS |
Package: yeastGSData |
Version: 0.18.0 |
Command: /home/biocbuild/bbs-3.7-bioc/R/bin/R CMD INSTALL yeastGSData |
StartedAt: 2018-10-16 09:01:08 -0400 (Tue, 16 Oct 2018) |
EndedAt: 2018-10-16 09:01:17 -0400 (Tue, 16 Oct 2018) |
EllapsedTime: 9.0 seconds |
RetCode: 0 |
Status: OK |
############################################################################## ############################################################################## ### ### Running command: ### ### /home/biocbuild/bbs-3.7-bioc/R/bin/R CMD INSTALL yeastGSData ### ############################################################################## ############################################################################## * installing to library ‘/home/biocbuild/bbs-3.7-bioc/R/library’ * installing *source* package ‘yeastGSData’ ... ** data ** inst ** help *** installing help indices ** building package indices ** testing if installed package can be loaded * DONE (yeastGSData)