Back to Workflows build report for BioC 3.7 |
This page was generated on 2018-10-15 12:45:16 -0400 (Mon, 15 Oct 2018).
Package 8/21 | Hostname | OS / Arch | INSTALL | BUILD | ||||||
ExpressionNormalizationWorkflow 1.4.0 Karthikeyan Murugesan
| malbec2 | Linux (Ubuntu 16.04.1 LTS) / x86_64 | [ OK ] | OK | ||||||
tokay2 | Windows Server 2012 R2 Standard / x64 | OK | OK |
Package: ExpressionNormalizationWorkflow |
Version: 1.4.0 |
Command: /home/biocbuild/bbs-3.7-bioc/R/bin/R CMD INSTALL ExpressionNormalizationWorkflow |
StartedAt: 2018-10-15 07:57:02 -0400 (Mon, 15 Oct 2018) |
EndedAt: 2018-10-15 07:57:29 -0400 (Mon, 15 Oct 2018) |
EllapsedTime: 27.0 seconds |
RetCode: 0 |
Status: OK |
############################################################################## ############################################################################## ### ### Running command: ### ### /home/biocbuild/bbs-3.7-bioc/R/bin/R CMD INSTALL ExpressionNormalizationWorkflow ### ############################################################################## ############################################################################## * installing to library ‘/home/biocbuild/bbs-3.7-bioc/R/library’ * installing *source* package ‘ExpressionNormalizationWorkflow’ ... ** R ** inst ** byte-compile and prepare package for lazy loading Warning: replacing previous import ‘Biobase::anyMissing’ by ‘matrixStats::anyMissing’ when loading ‘ExpressionNormalizationWorkflow’ Warning: replacing previous import ‘Biobase::rowMedians’ by ‘matrixStats::rowMedians’ when loading ‘ExpressionNormalizationWorkflow’ ** help Warning: /home/biocbuild/bbs-3.7-workflows/meat/ExpressionNormalizationWorkflow/man/ExpressionNormalizationWorkflow-package.Rd:29: All text must be in a section Warning: /home/biocbuild/bbs-3.7-workflows/meat/ExpressionNormalizationWorkflow/man/ExpressionNormalizationWorkflow-package.Rd:30: All text must be in a section *** installing help indices ** building package indices ** installing vignettes ** testing if installed package can be loaded Warning: replacing previous import ‘Biobase::anyMissing’ by ‘matrixStats::anyMissing’ when loading ‘ExpressionNormalizationWorkflow’ Warning: replacing previous import ‘Biobase::rowMedians’ by ‘matrixStats::rowMedians’ when loading ‘ExpressionNormalizationWorkflow’ * DONE (ExpressionNormalizationWorkflow)