Back to Multiple platform build/check report for BioC 3.8 |
|
This page was generated on 2019-04-16 11:50:01 -0400 (Tue, 16 Apr 2019).
Package 1494/1649 | Hostname | OS / Arch | INSTALL | BUILD | CHECK | BUILD BIN | ||||||
SplicingGraphs 1.22.2 H. Pagès
| malbec1 | Linux (Ubuntu 16.04.6 LTS) / x86_64 | OK | [ OK ] | WARNINGS | ![]() | ||||||
merida1 | OS X 10.11.6 El Capitan / x86_64 | OK | OK | WARNINGS | OK | ![]() |
Package: SplicingGraphs |
Version: 1.22.2 |
Command: /home/biocbuild/bbs-3.8-bioc/R/bin/R CMD build --keep-empty-dirs --no-resave-data SplicingGraphs |
StartedAt: 2019-04-15 19:32:08 -0400 (Mon, 15 Apr 2019) |
EndedAt: 2019-04-15 19:34:20 -0400 (Mon, 15 Apr 2019) |
EllapsedTime: 131.4 seconds |
RetCode: 0 |
Status: OK |
PackageFile: SplicingGraphs_1.22.2.tar.gz |
PackageFileSize: 45.9 MiB |
############################################################################## ############################################################################## ### ### Running command: ### ### /home/biocbuild/bbs-3.8-bioc/R/bin/R CMD build --keep-empty-dirs --no-resave-data SplicingGraphs ### ############################################################################## ############################################################################## * checking for file ‘SplicingGraphs/DESCRIPTION’ ... OK * preparing ‘SplicingGraphs’: * checking DESCRIPTION meta-information ... OK * installing the package to build vignettes * creating vignettes ... OK * checking for LF line-endings in source and make files and shell scripts * checking for empty or unneeded directories * building ‘SplicingGraphs_1.22.2.tar.gz’