Back to Multiple platform build/check report for BioC 3.8 |
|
This page was generated on 2019-04-16 12:08:30 -0400 (Tue, 16 Apr 2019).
Package 408/1649 | Hostname | OS / Arch | INSTALL | BUILD | CHECK | BUILD BIN | ||||||
diffcyt 1.2.23 Lukas M. Weber
| malbec1 | Linux (Ubuntu 16.04.6 LTS) / x86_64 | OK | OK | OK | ![]() | ||||||
merida1 | OS X 10.11.6 El Capitan / x86_64 | OK | OK | OK | [ OK ] | ![]() |
Package: diffcyt |
Version: 1.2.23 |
Command: rm -rf diffcyt.buildbin-libdir && mkdir diffcyt.buildbin-libdir && /Users/biocbuild/BBS/utils/build-universal.sh diffcyt_1.2.23.tar.gz /Library/Frameworks/R.framework/Versions/Current/Resources/bin/R diffcyt.buildbin-libdir |
StartedAt: 2019-04-16 03:57:19 -0400 (Tue, 16 Apr 2019) |
EndedAt: 2019-04-16 03:58:01 -0400 (Tue, 16 Apr 2019) |
EllapsedTime: 42.2 seconds |
RetCode: 0 |
Status: OK |
PackageFile: diffcyt_1.2.23.tgz |
PackageFileSize: 881.4 KiB |
############################################################################## ############################################################################## ### ### Running command: ### ### rm -rf diffcyt.buildbin-libdir && mkdir diffcyt.buildbin-libdir && /Users/biocbuild/BBS/utils/build-universal.sh diffcyt_1.2.23.tar.gz /Library/Frameworks/R.framework/Versions/Current/Resources/bin/R diffcyt.buildbin-libdir ### ############################################################################## ############################################################################## >>>>>>> >>>>>>> INSTALLATION WITH 'R CMD INSTALL --preclean --no-multiarch --library=diffcyt.buildbin-libdir diffcyt_1.2.23.tar.gz' >>>>>>> * installing *source* package ‘diffcyt’ ... ** R ** inst ** byte-compile and prepare package for lazy loading ** help *** installing help indices ** building package indices ** installing vignettes ** testing if installed package can be loaded * DONE (diffcyt)