Back to Multiple platform build/check report for BioC 3.8 |
|
This page was generated on 2019-04-13 11:22:11 -0400 (Sat, 13 Apr 2019).
Package 544/1649 | Hostname | OS / Arch | INSTALL | BUILD | CHECK | BUILD BIN | ||||||
flowQB 2.10.1 Josef Spidlen
| malbec1 | Linux (Ubuntu 16.04.6 LTS) / x86_64 | OK | OK | OK | ![]() | ||||||
tokay1 | Windows Server 2012 R2 Standard / x64 | OK | OK | OK | [ OK ] | ![]() | ||||||
merida1 | OS X 10.11.6 El Capitan / x86_64 | OK | OK | OK | OK | ![]() |
Package: flowQB |
Version: 2.10.1 |
Command: rm -rf flowQB.buildbin-libdir && mkdir flowQB.buildbin-libdir && C:\Users\biocbuild\bbs-3.8-bioc\R\bin\R.exe CMD INSTALL --merge-multiarch --build --library=flowQB.buildbin-libdir flowQB_2.10.1.tar.gz |
StartedAt: 2019-04-13 07:16:09 -0400 (Sat, 13 Apr 2019) |
EndedAt: 2019-04-13 07:16:26 -0400 (Sat, 13 Apr 2019) |
EllapsedTime: 17.2 seconds |
RetCode: 0 |
Status: OK |
PackageFile: flowQB_2.10.1.zip |
PackageFileSize: 439 KiB |
############################################################################## ############################################################################## ### ### Running command: ### ### rm -rf flowQB.buildbin-libdir && mkdir flowQB.buildbin-libdir && C:\Users\biocbuild\bbs-3.8-bioc\R\bin\R.exe CMD INSTALL --merge-multiarch --build --library=flowQB.buildbin-libdir flowQB_2.10.1.tar.gz ### ############################################################################## ############################################################################## install for i386 * installing *source* package 'flowQB' ... ** R ** inst ** byte-compile and prepare package for lazy loading ** help *** installing help indices converting help for package 'flowQB' finding HTML links ... done calc_mean_sd_197 html calc_mean_sd_background html calc_mean_sd_capture html calc_mean_sd_capture_all html calc_mean_sd_duke html find_peak html fit_beads html fit_led html fitted_ellipse_gate html get_results_for_dyes html peak_gate-methods html finding level-2 HTML links ... done pick_parameters-methods html qb_from_fits html split_in_two-methods html ** building package indices ** installing vignettes ** testing if installed package can be loaded In R CMD INSTALL install for x64 * installing *source* package 'flowQB' ... ** testing if installed package can be loaded * MD5 sums packaged installation of 'flowQB' as flowQB_2.10.1.zip * DONE (flowQB) In R CMD INSTALL In R CMD INSTALL