Back to Multiple platform build/check report for BioC 3.8 |
|
This page was generated on 2019-04-13 11:29:03 -0400 (Sat, 13 Apr 2019).
Package 1148/1649 | Hostname | OS / Arch | INSTALL | BUILD | CHECK | BUILD BIN | ||||||
phantasus 1.2.1 Alexey Sergushichev
| malbec1 | Linux (Ubuntu 16.04.6 LTS) / x86_64 | OK | OK | OK | ![]() | ||||||
tokay1 | Windows Server 2012 R2 Standard / x64 | OK | OK | [ OK ] | OK | ![]() | ||||||
merida1 | OS X 10.11.6 El Capitan / x86_64 | OK | OK | OK | OK | ![]() |
Package: phantasus |
Version: 1.2.1 |
Command: C:\Users\biocbuild\bbs-3.8-bioc\R\bin\R.exe CMD check --force-multiarch --install=check:phantasus.install-out.txt --library=C:\Users\biocbuild\bbs-3.8-bioc\R\library --no-vignettes --timings phantasus_1.2.1.tar.gz |
StartedAt: 2019-04-13 04:31:12 -0400 (Sat, 13 Apr 2019) |
EndedAt: 2019-04-13 04:37:08 -0400 (Sat, 13 Apr 2019) |
EllapsedTime: 355.6 seconds |
RetCode: 0 |
Status: OK |
CheckDir: phantasus.Rcheck |
Warnings: 0 |
############################################################################## ############################################################################## ### ### Running command: ### ### C:\Users\biocbuild\bbs-3.8-bioc\R\bin\R.exe CMD check --force-multiarch --install=check:phantasus.install-out.txt --library=C:\Users\biocbuild\bbs-3.8-bioc\R\library --no-vignettes --timings phantasus_1.2.1.tar.gz ### ############################################################################## ############################################################################## * using log directory 'C:/Users/biocbuild/bbs-3.8-bioc/meat/phantasus.Rcheck' * using R version 3.5.3 (2019-03-11) * using platform: x86_64-w64-mingw32 (64-bit) * using session charset: ISO8859-1 * using option '--no-vignettes' * checking for file 'phantasus/DESCRIPTION' ... OK * this is package 'phantasus' version '1.2.1' * package encoding: UTF-8 * checking package namespace information ... OK * checking package dependencies ...Warning: unable to access index for repository https://CRAN.R-project.org/src/contrib: cannot open URL 'https://CRAN.R-project.org/src/contrib/PACKAGES' OK * checking if this is a source package ... OK * checking if there is a namespace ... OK * checking for hidden files and directories ... OK * checking for portable file names ... OK * checking whether package 'phantasus' can be installed ... OK * checking installed package size ... NOTE installed size is 21.5Mb sub-directories of 1Mb or more: www 20.8Mb * checking package directory ... OK * checking DESCRIPTION meta-information ... OK * checking top-level files ... OK * checking for left-over files ... OK * checking index information ... OK * checking package subdirectories ... OK * checking R files for non-ASCII characters ... OK * checking R files for syntax errors ... OK * loading checks for arch 'i386' ** checking whether the package can be loaded ... OK ** checking whether the package can be loaded with stated dependencies ... OK ** checking whether the package can be unloaded cleanly ... OK ** checking whether the namespace can be loaded with stated dependencies ... OK ** checking whether the namespace can be unloaded cleanly ... OK * loading checks for arch 'x64' ** checking whether the package can be loaded ... OK ** checking whether the package can be loaded with stated dependencies ... OK ** checking whether the package can be unloaded cleanly ... OK ** checking whether the namespace can be loaded with stated dependencies ... OK ** checking whether the namespace can be unloaded cleanly ... OK * checking dependencies in R code ... NOTE Unexported objects imported by ':::' calls: 'GEOquery:::getDirListing' 'opencpu:::rookhandler' 'opencpu:::tmp_root' 'opencpu:::win_or_mac' See the note in ?`:::` about the use of this operator. * checking S3 generic/method consistency ... OK * checking replacement functions ... OK * checking foreign function calls ... OK * checking R code for possible problems ... OK * checking Rd files ... OK * checking Rd metadata ... OK * checking Rd cross-references ... OK * checking for missing documentation entries ... OK * checking for code/documentation mismatches ... OK * checking Rd \usage sections ... OK * checking Rd contents ... OK * checking for unstated dependencies in examples ... OK * checking contents of 'data' directory ... OK * checking data for non-ASCII characters ... OK * checking data for ASCII and uncompressed saves ... OK * checking files in 'vignettes' ... OK * checking examples ... ** running examples for arch 'i386' ... OK Examples with CPU or elapsed time > 5s user system elapsed getGSE 6.53 0.66 7.94 ** running examples for arch 'x64' ... OK Examples with CPU or elapsed time > 5s user system elapsed getGSE 7.33 0.42 8.39 * checking for unstated dependencies in 'tests' ... OK * checking tests ... ** running tests for arch 'i386' ... Running 'testthat.R' OK ** running tests for arch 'x64' ... Running 'testthat.R' OK * checking for unstated dependencies in vignettes ... OK * checking package vignettes in 'inst/doc' ... OK * checking running R code from vignettes ... SKIPPED * checking re-building of vignette outputs ... SKIPPED * checking PDF version of manual ... OK * DONE Status: 2 NOTEs See 'C:/Users/biocbuild/bbs-3.8-bioc/meat/phantasus.Rcheck/00check.log' for details.
phantasus.Rcheck/00install.out
############################################################################## ############################################################################## ### ### Running command: ### ### C:\cygwin\bin\curl.exe -O https://malbec1.bioconductor.org/BBS/3.8/bioc/src/contrib/phantasus_1.2.1.tar.gz && rm -rf phantasus.buildbin-libdir && mkdir phantasus.buildbin-libdir && C:\Users\biocbuild\bbs-3.8-bioc\R\bin\R.exe CMD INSTALL --merge-multiarch --build --library=phantasus.buildbin-libdir phantasus_1.2.1.tar.gz && C:\Users\biocbuild\bbs-3.8-bioc\R\bin\R.exe CMD INSTALL phantasus_1.2.1.zip && rm phantasus_1.2.1.tar.gz phantasus_1.2.1.zip ### ############################################################################## ############################################################################## % Total % Received % Xferd Average Speed Time Time Time Current Dload Upload Total Spent Left Speed 0 0 0 0 0 0 0 0 --:--:-- --:--:-- --:--:-- 0 100 8797k 100 8797k 0 0 35.5M 0 --:--:-- --:--:-- --:--:-- 36.2M install for i386 * installing *source* package 'phantasus' ... ** R ** data *** moving datasets to lazyload DB ** inst ** byte-compile and prepare package for lazy loading Loading config from C:/Users/biocbuild/bbs-3.8-bioc/R/library/opencpu/config/defaults.conf Loading config from C:\Users\biocbuild\AppData\Local\opencpu\opencpu/user.conf ** help *** installing help indices converting help for package 'phantasus' finding HTML links ... done adjustDataset html calcPCA html calculatedAnnotation html checkGPLs html checkPreloadedNames html collapseDataset html createES html es html getArchs4Files html getES html getGDS html getGSE html gseaPlot html limmaAnalysis html loadFromARCHS4 html loadGEO html loadPreloaded html performKmeans html preloadedDirExists html read.gct html reparseCachedESs html servePhantasus html shinyGAMAnalysis html subsetES html write.gct html ** building package indices ** installing vignettes ** testing if installed package can be loaded Loading config from C:/Users/biocbuild/bbs-3.8-bioc/R/library/opencpu/config/defaults.conf Loading config from C:\Users\biocbuild\AppData\Local\opencpu\opencpu/user.conf In R CMD INSTALL install for x64 * installing *source* package 'phantasus' ... ** testing if installed package can be loaded Loading config from C:/Users/biocbuild/bbs-3.8-bioc/R/library/opencpu/config/defaults.conf Loading config from C:\Users\biocbuild\AppData\Local\opencpu\opencpu/user.conf * MD5 sums packaged installation of 'phantasus' as phantasus_1.2.1.zip * DONE (phantasus) In R CMD INSTALL In R CMD INSTALL * installing to library 'C:/Users/biocbuild/bbs-3.8-bioc/R/library' package 'phantasus' successfully unpacked and MD5 sums checked In R CMD INSTALL
phantasus.Rcheck/tests_i386/testthat.Rout R version 3.5.3 (2019-03-11) -- "Great Truth" Copyright (C) 2019 The R Foundation for Statistical Computing Platform: i386-w64-mingw32/i386 (32-bit) R is free software and comes with ABSOLUTELY NO WARRANTY. You are welcome to redistribute it under certain conditions. Type 'license()' or 'licence()' for distribution details. R is a collaborative project with many contributors. Type 'contributors()' for more information and 'citation()' on how to cite R or R packages in publications. Type 'demo()' for some demos, 'help()' for on-line help, or 'help.start()' for an HTML browser interface to help. Type 'q()' to quit R. > library(testthat) > library(phantasus) Setting options('download.file.method.GEOquery'='auto') Setting options('GEOquery.inmemory.gpl'=FALSE) Loading config from C:/Users/biocbuild/bbs-3.8-bioc/R/library/opencpu/config/defaults.conf Loading config from C:\Users\biocbuild\AppData\Local\opencpu\opencpu/user.conf > > test_check("phantasus") trying URL 'https://genome.ifmo.ru/files/software/phantasus/geo/series/GSE27nnn/GSE27112/matrix/GSE27112_series_matrix.txt.gz' trying URL 'https://genome.ifmo.ru/files/software/phantasus/geo/series/GSE27nnn/GSE27112/matrix/GSE27112-GPL6103_series_matrix.txt.gz' Content length 596707 bytes (582 KB) ================================================== downloaded 582 KB trying URL 'https://genome.ifmo.ru/files/software/phantasus/geo/series/GSE27nnn/GSE27112/matrix/GSE27112-GPL6885_series_matrix.txt.gz' length 1273889 bytes (1.2 MB) ================================================== downloaded 1.2 MB trying URL 'https://genome.ifmo.ru/files/software/phantasus/geo/series/GSE14nnn/GSE14308/matrix/GSE14308_series_matrix.txt.gz' length 1807552 bytes (1.7 MB) ================================================== downloaded 1.7 MB trying URL 'https://genome.ifmo.ru/files/software/phantasus/geo/datasets/GDS4nnn/GDS4885/soft/GDS4885.soft.gz' length 1250109 bytes (1.2 MB) ================================================== downloaded 1.2 MB trying URL 'https://ftp.ncbi.nlm.nih.gov/geo/series/GSE53nnn/GSE53986/matrix/GSE53986_series_matrix.txt.gz' length 2848655 bytes (2.7 MB) ================================================== downloaded 2.7 MB trying URL 'https://ftp.ncbi.nlm.nih.gov/geo/series/GSE27nnn/GSE27112/matrix/GSE27112_series_matrix.txt.gz' trying URL 'https://ftp.ncbi.nlm.nih.gov/geo/series/GSE99nnn/GSE99709/matrix/GSE99709_series_matrix.txt.gz' Content length 3390 bytes ================================================== downloaded 3390 bytes == testthat results =========================================================== OK: 99 SKIPPED: 0 FAILED: 0 > > proc.time() user system elapsed 67.73 5.42 91.23 |
phantasus.Rcheck/tests_x64/testthat.Rout R version 3.5.3 (2019-03-11) -- "Great Truth" Copyright (C) 2019 The R Foundation for Statistical Computing Platform: x86_64-w64-mingw32/x64 (64-bit) R is free software and comes with ABSOLUTELY NO WARRANTY. You are welcome to redistribute it under certain conditions. Type 'license()' or 'licence()' for distribution details. R is a collaborative project with many contributors. Type 'contributors()' for more information and 'citation()' on how to cite R or R packages in publications. Type 'demo()' for some demos, 'help()' for on-line help, or 'help.start()' for an HTML browser interface to help. Type 'q()' to quit R. > library(testthat) > library(phantasus) Setting options('download.file.method.GEOquery'='auto') Setting options('GEOquery.inmemory.gpl'=FALSE) Loading config from C:/Users/biocbuild/bbs-3.8-bioc/R/library/opencpu/config/defaults.conf Loading config from C:\Users\biocbuild\AppData\Local\opencpu\opencpu/user.conf > > test_check("phantasus") trying URL 'https://genome.ifmo.ru/files/software/phantasus/geo/series/GSE27nnn/GSE27112/matrix/GSE27112_series_matrix.txt.gz' trying URL 'https://genome.ifmo.ru/files/software/phantasus/geo/series/GSE27nnn/GSE27112/matrix/GSE27112-GPL6103_series_matrix.txt.gz' Content length 596707 bytes (582 KB) ================================================== downloaded 582 KB trying URL 'https://genome.ifmo.ru/files/software/phantasus/geo/series/GSE27nnn/GSE27112/matrix/GSE27112-GPL6885_series_matrix.txt.gz' length 1273889 bytes (1.2 MB) ================================================== downloaded 1.2 MB trying URL 'https://genome.ifmo.ru/files/software/phantasus/geo/series/GSE14nnn/GSE14308/matrix/GSE14308_series_matrix.txt.gz' length 1807552 bytes (1.7 MB) ================================================== downloaded 1.7 MB trying URL 'https://genome.ifmo.ru/files/software/phantasus/geo/datasets/GDS4nnn/GDS4885/soft/GDS4885.soft.gz' length 1250109 bytes (1.2 MB) ================================================== downloaded 1.2 MB trying URL 'https://ftp.ncbi.nlm.nih.gov/geo/series/GSE53nnn/GSE53986/matrix/GSE53986_series_matrix.txt.gz' length 2848655 bytes (2.7 MB) ================================================== downloaded 2.7 MB trying URL 'https://ftp.ncbi.nlm.nih.gov/geo/series/GSE27nnn/GSE27112/matrix/GSE27112_series_matrix.txt.gz' == testthat results =========================================================== OK: 99 SKIPPED: 0 FAILED: 0 > > proc.time() user system elapsed 63.17 4.59 82.78 |
phantasus.Rcheck/examples_i386/phantasus-Ex.timings
|
phantasus.Rcheck/examples_x64/phantasus-Ex.timings
|