Back to Multiple platform build/check report for BioC 3.8 |
|
This page was generated on 2019-04-16 11:53:40 -0400 (Tue, 16 Apr 2019).
Package 12/1649 | Hostname | OS / Arch | INSTALL | BUILD | CHECK | BUILD BIN | ||||||
ACE 1.0.0 Jos B Poell
| malbec1 | Linux (Ubuntu 16.04.6 LTS) / x86_64 | OK | OK | [ OK ] | ![]() | ||||||
merida1 | OS X 10.11.6 El Capitan / x86_64 | OK | OK | OK | OK | ![]() |
Package: ACE |
Version: 1.0.0 |
Command: /home/biocbuild/bbs-3.8-bioc/R/bin/R CMD check --install=check:ACE.install-out.txt --library=/home/biocbuild/bbs-3.8-bioc/R/library --no-vignettes --timings ACE_1.0.0.tar.gz |
StartedAt: 2019-04-15 22:05:33 -0400 (Mon, 15 Apr 2019) |
EndedAt: 2019-04-15 22:08:10 -0400 (Mon, 15 Apr 2019) |
EllapsedTime: 157.7 seconds |
RetCode: 0 |
Status: OK |
CheckDir: ACE.Rcheck |
Warnings: 0 |
############################################################################## ############################################################################## ### ### Running command: ### ### /home/biocbuild/bbs-3.8-bioc/R/bin/R CMD check --install=check:ACE.install-out.txt --library=/home/biocbuild/bbs-3.8-bioc/R/library --no-vignettes --timings ACE_1.0.0.tar.gz ### ############################################################################## ############################################################################## * using log directory ‘/home/biocbuild/bbs-3.8-bioc/meat/ACE.Rcheck’ * using R version 3.5.3 (2019-03-11) * using platform: x86_64-pc-linux-gnu (64-bit) * using session charset: UTF-8 * using option ‘--no-vignettes’ * checking for file ‘ACE/DESCRIPTION’ ... OK * this is package ‘ACE’ version ‘1.0.0’ * package encoding: UTF-8 * checking package namespace information ... OK * checking package dependencies ... OK * checking if this is a source package ... OK * checking if there is a namespace ... OK * checking for hidden files and directories ... OK * checking for portable file names ... OK * checking for sufficient/correct file permissions ... OK * checking whether package ‘ACE’ can be installed ... OK * checking installed package size ... OK * checking package directory ... OK * checking ‘build’ directory ... OK * checking DESCRIPTION meta-information ... OK * checking top-level files ... OK * checking for left-over files ... OK * checking index information ... OK * checking package subdirectories ... OK * checking R files for non-ASCII characters ... OK * checking R files for syntax errors ... OK * checking whether the package can be loaded ... OK * checking whether the package can be loaded with stated dependencies ... OK * checking whether the package can be unloaded cleanly ... OK * checking whether the namespace can be loaded with stated dependencies ... OK * checking whether the namespace can be unloaded cleanly ... OK * checking dependencies in R code ... NOTE Unexported object imported by a ':::' call: ‘QDNAseq:::sdDiffTrim’ See the note in ?`:::` about the use of this operator. * checking S3 generic/method consistency ... OK * checking replacement functions ... OK * checking foreign function calls ... OK * checking R code for possible problems ... OK * checking Rd files ... OK * checking Rd metadata ... OK * checking Rd cross-references ... OK * checking for missing documentation entries ... OK * checking for code/documentation mismatches ... OK * checking Rd \usage sections ... OK * checking Rd contents ... OK * checking for unstated dependencies in examples ... OK * checking contents of ‘data’ directory ... OK * checking data for non-ASCII characters ... OK * checking data for ASCII and uncompressed saves ... OK * checking files in ‘vignettes’ ... OK * checking examples ... OK Examples with CPU or elapsed time > 5s user system elapsed squaremodelsummary 12.860 0.020 13.713 squaremodel 10.772 0.016 10.825 loopsquaremodel 6.200 0.048 6.273 * checking for unstated dependencies in vignettes ... OK * checking package vignettes in ‘inst/doc’ ... OK * checking running R code from vignettes ... SKIPPED * checking re-building of vignette outputs ... SKIPPED * checking PDF version of manual ... OK * DONE Status: 1 NOTE See ‘/home/biocbuild/bbs-3.8-bioc/meat/ACE.Rcheck/00check.log’ for details.
ACE.Rcheck/00install.out
############################################################################## ############################################################################## ### ### Running command: ### ### /home/biocbuild/bbs-3.8-bioc/R/bin/R CMD INSTALL ACE ### ############################################################################## ############################################################################## * installing to library ‘/home/biocbuild/bbs-3.8-bioc/R/library’ * installing *source* package ‘ACE’ ... ** R ** data *** moving datasets to lazyload DB ** byte-compile and prepare package for lazy loading ** help *** installing help indices ** building package indices ** installing vignettes ** testing if installed package can be loaded * DONE (ACE)
ACE.Rcheck/ACE-Ex.timings
name | user | system | elapsed | |
ACEcall | 1.684 | 0.212 | 1.896 | |
analyzegenomiclocations | 0.032 | 0.000 | 0.033 | |
compresstemplate | 0.092 | 0.000 | 0.095 | |
copyNumbersSegmented | 1.164 | 0.036 | 1.204 | |
correlationmatrix | 0.136 | 0.000 | 0.138 | |
getadjustedsegments | 0.280 | 0.004 | 0.286 | |
linkvariants | 0.016 | 0.004 | 0.021 | |
loopsquaremodel | 6.200 | 0.048 | 6.273 | |
objectsampletotemplate | 0.012 | 0.000 | 0.010 | |
postanalysisloop | 0 | 0 | 0 | |
runACE | 0 | 0 | 0 | |
singlemodel | 1.304 | 0.000 | 1.325 | |
singleplot | 1.472 | 0.004 | 1.479 | |
squaremodel | 10.772 | 0.016 | 10.825 | |
squaremodelsummary | 12.860 | 0.020 | 13.713 | |
templatefromequalsegments | 0.028 | 0.000 | 0.025 | |
twosamplecompare | 4.368 | 0.016 | 4.399 | |