Back to Multiple platform build/check report for BioC 3.8 |
|
This page was generated on 2019-04-13 11:26:49 -0400 (Sat, 13 Apr 2019).
Package 929/1649 | Hostname | OS / Arch | INSTALL | BUILD | CHECK | BUILD BIN | ||||||
MetCirc 1.12.1 Thomas Naake
| malbec1 | Linux (Ubuntu 16.04.6 LTS) / x86_64 | OK | OK | OK | |||||||
tokay1 | Windows Server 2012 R2 Standard / x64 | OK | OK | OK | [ OK ] | |||||||
merida1 | OS X 10.11.6 El Capitan / x86_64 | OK | OK | OK | OK |
Package: MetCirc |
Version: 1.12.1 |
Command: rm -rf MetCirc.buildbin-libdir && mkdir MetCirc.buildbin-libdir && C:\Users\biocbuild\bbs-3.8-bioc\R\bin\R.exe CMD INSTALL --merge-multiarch --build --library=MetCirc.buildbin-libdir MetCirc_1.12.1.tar.gz |
StartedAt: 2019-04-13 07:38:07 -0400 (Sat, 13 Apr 2019) |
EndedAt: 2019-04-13 07:38:23 -0400 (Sat, 13 Apr 2019) |
EllapsedTime: 16.5 seconds |
RetCode: 0 |
Status: OK |
PackageFile: MetCirc_1.12.1.zip |
PackageFileSize: 2.256 MiB |
############################################################################## ############################################################################## ### ### Running command: ### ### rm -rf MetCirc.buildbin-libdir && mkdir MetCirc.buildbin-libdir && C:\Users\biocbuild\bbs-3.8-bioc\R\bin\R.exe CMD INSTALL --merge-multiarch --build --library=MetCirc.buildbin-libdir MetCirc_1.12.1.tar.gz ### ############################################################################## ############################################################################## install for i386 * installing *source* package 'MetCirc' ... ** R ** data ** inst ** byte-compile and prepare package for lazy loading ** help *** installing help indices converting help for package 'MetCirc' finding HTML links ... done MSP html NDP html adduct-set html adduct html allocatePrecursor2mz html binnedMSP html binning html cart2Polar html circosLegend html classes-set html classes html combine html compartmentTissue html convert2MSP html convertExampleDF html convertMSP2MSP html createLink0Matrix html createLinkMatrix html createOrderedSimMat html createSimilarityMatrix html cutLinkMatrix html cutUniquePrecursor html extract-methods html getBegEndIndMSP html getLinkMatrixIndices html getPrecursorMZ html getRT html highlight html idMSMStoMSP-data html information-set html information html length-method html minFragCart2Polar html msp2FunctionalLossesMSP html msp2msp html names-set html names html peaks html plotCircos html printInformationSelect html sd01_outputXCMS html sd02_deconvoluted html shinyCircos html show-method html similarityMat html thresholdLinkMatrix html tissue html truncateName html ** building package indices ** installing vignettes ** testing if installed package can be loaded In R CMD INSTALL install for x64 * installing *source* package 'MetCirc' ... ** testing if installed package can be loaded * MD5 sums packaged installation of 'MetCirc' as MetCirc_1.12.1.zip * DONE (MetCirc) In R CMD INSTALL In R CMD INSTALL