Back to Multiple platform build/check report for BioC 3.8 |
|
This page was generated on 2019-04-16 12:00:01 -0400 (Tue, 16 Apr 2019).
Package 1123/1649 | Hostname | OS / Arch | INSTALL | BUILD | CHECK | BUILD BIN | ||||||
PathoStat 1.8.4 Solaiappan Manimaran
| malbec1 | Linux (Ubuntu 16.04.6 LTS) / x86_64 | OK | OK | OK | ![]() | ||||||
merida1 | OS X 10.11.6 El Capitan / x86_64 | OK | OK | OK | [ OK ] | ![]() |
Package: PathoStat |
Version: 1.8.4 |
Command: rm -rf PathoStat.buildbin-libdir && mkdir PathoStat.buildbin-libdir && /Users/biocbuild/BBS/utils/build-universal.sh PathoStat_1.8.4.tar.gz /Library/Frameworks/R.framework/Versions/Current/Resources/bin/R PathoStat.buildbin-libdir |
StartedAt: 2019-04-16 04:30:23 -0400 (Tue, 16 Apr 2019) |
EndedAt: 2019-04-16 04:31:04 -0400 (Tue, 16 Apr 2019) |
EllapsedTime: 41.3 seconds |
RetCode: 0 |
Status: OK |
PackageFile: PathoStat_1.8.4.tgz |
PackageFileSize: 1.042 MiB |
############################################################################## ############################################################################## ### ### Running command: ### ### rm -rf PathoStat.buildbin-libdir && mkdir PathoStat.buildbin-libdir && /Users/biocbuild/BBS/utils/build-universal.sh PathoStat_1.8.4.tar.gz /Library/Frameworks/R.framework/Versions/Current/Resources/bin/R PathoStat.buildbin-libdir ### ############################################################################## ############################################################################## >>>>>>> >>>>>>> INSTALLATION WITH 'R CMD INSTALL --preclean --no-multiarch --library=PathoStat.buildbin-libdir PathoStat_1.8.4.tar.gz' >>>>>>> * installing *source* package ‘PathoStat’ ... ** R ** data ** inst ** byte-compile and prepare package for lazy loading ** help *** installing help indices ** building package indices ** installing vignettes ** testing if installed package can be loaded * DONE (PathoStat)